BEGIN:VCALENDAR
VERSION:2.0
PRODID:-//ChamberMaster//Event Calendar 2.0//EN
METHOD:PUBLISH
X-PUBLISHED-TTL:P3D
REFRESH-INTERVAL:P3D
CALSCALE:GREGORIAN
BEGIN:VEVENT
DTSTART:20180505T220000Z
DTEND:20180506T010000Z
X-MICROSOFT-CDO-ALLDAYEVENT:FALSE
SUMMARY:Vassar Alumnae House Murder Mystery - "Murder Me Always"
DESCRIPTION:Enjoy a 1940's Murder Mystery with a three course meal\, cocktail hour with live music\, raffles and prizes to benefit Renewed For You Bouquets. Come in 40's costume and best wins a prize (not required but fun) Wine and Manchego Cheese tasting before the show and dinner. The Vassar Alumnae House is the perfect setting to guess the killer!
X-ALT-DESC;FMTTYPE=text/html:Enjoy a 1940&#39\;s Murder Mystery with a three course meal\, cocktail hour with live music\, raffles and prizes to benefit Renewed For You Bouquets. Come in 40&#39\;s costume and best wins a prize (not required but fun) Wine and Manchego Cheese tasting before the show and dinner. The Vassar Alumnae House is the perfect setting to guess the killer!
LOCATION:Vassar Alumnae House 161 College Ave Poughkeepsie
UID:e.2770.10477721
SEQUENCE:3
DTSTAMP:20260425T182127Z
URL:https://business.dcrcoc.org/events/details/vassar-alumnae-house-murder-mystery-murder-me-always-10477721
END:VEVENT

END:VCALENDAR
