BEGIN:VCALENDAR
VERSION:2.0
PRODID:-//ChamberMaster//Event Calendar 2.0//EN
METHOD:PUBLISH
X-PUBLISHED-TTL:P3D
REFRESH-INTERVAL:P3D
CALSCALE:GREGORIAN
BEGIN:VEVENT
DTSTART:20171209T183000Z
DTEND:20171209T192000Z
X-MICROSOFT-CDO-ALLDAYEVENT:FALSE
SUMMARY:Vassar College Majors Fall Concert
DESCRIPTION:Vassar College Majors will present a program of accompanied and unaccompanied choral works by Brahms\, Rachmaninoff\, Gesualdo\, Faur \, Thompson\, and others on Saturday\, December 9\, 1:30 pm in Skinner Recital Hall. This concert will serve as the senior conducting recital of Nicholas Ruggeri '18. This event is free and open to the public. Vassar College Majors is a select SATB choral ensemble that specializes in music from the Renaissance\, Romantic\, and Contemporary periods. Founded and currently conducted by Nicholas Ruggeri '18\, Majors is a student-managed organization which performs both on Vassar's campus and in the Poughkeepsie community. Majors is also a nationally-touring ensemble\, most recently performing at the Interkultur International Choral Festival in Princeton\, NJ where they were praised for their "polished\, mature sound and commitment to a high level of artistry."
X-ALT-DESC;FMTTYPE=text/html:Vassar College Majors will present a program of accompanied and unaccompanied choral works by Brahms\, Rachmaninoff\, Gesualdo\, Faur&eacute\;\, Thompson\, and others on Saturday\, December 9\, 1:30 pm in Skinner Recital Hall. This concert will serve as the senior conducting recital of Nicholas Ruggeri &#39\;18. This event is free and open to the public. Vassar College Majors is a select SATB choral ensemble that specializes in music from the Renaissance\, Romantic\, and Contemporary periods. Founded and currently conducted by Nicholas Ruggeri &#39\;18\, Majors is a student-managed organization which performs both on Vassar&#39\;s campus and in the Poughkeepsie community. Majors is also a nationally-touring ensemble\, most recently performing at the Interkultur International Choral Festival in Princeton\, NJ where they were praised for their &quot\;polished\, mature sound and commitment to a high level of artistry.&quot\;
LOCATION:Vassar College Skinner Recital Hall 124 Raymond Ave Poughkeepsie\, NY 12604
UID:e.2770.10476630
SEQUENCE:3
DTSTAMP:20260426T004948Z
URL:https://business.dcrcoc.org/events/details/vassar-college-majors-fall-concert-10476630
END:VEVENT

END:VCALENDAR
