BEGIN:VCALENDAR
VERSION:2.0
PRODID:-//ChamberMaster//Event Calendar 2.0//EN
METHOD:PUBLISH
X-PUBLISHED-TTL:P3D
REFRESH-INTERVAL:P3D
CALSCALE:GREGORIAN
BEGIN:VEVENT
DTSTART:20190920T160000Z
DTEND:20190922T180000Z
X-MICROSOFT-CDO-ALLDAYEVENT:FALSE
SUMMARY:Vassar Haiti Project Haitian Art Sale & Auction
DESCRIPTION:Vassar Haiti Project Haitian Art Sale & Auction will run from Friday\, September 20\, through Sunday\, September 22. Hundreds of original paintings will be offered as well as thousands of handcrafts\, including hand painted silk scarves and iron sculptures. All proceeds go toward supporting sustainability in the rural mountain villages in northwest Haiti.
X-ALT-DESC;FMTTYPE=text/html:Vassar Haiti Project Haitian Art Sale &amp\; Auction will run from Friday\, September 20\, through Sunday\, September 22. Hundreds of original paintings will be offered as well as thousands of handcrafts\, including hand painted silk scarves and iron sculptures. All proceeds go toward supporting sustainability in the rural mountain villages in northwest Haiti.
LOCATION:The College Center at Vassar College's second floor multi-purpose room\, located at 124 Raymond Avenue
UID:e.2770.10481177
SEQUENCE:3
DTSTAMP:20260422T221015Z
URL:https://business.dcrcoc.org/events/details/vassar-haiti-project-haitian-art-sale-auction-10481177
END:VEVENT

END:VCALENDAR
