BEGIN:VCALENDAR
VERSION:2.0
PRODID:-//ChamberMaster//Event Calendar 2.0//EN
METHOD:PUBLISH
X-PUBLISHED-TTL:P3D
REFRESH-INTERVAL:P3D
CALSCALE:GREGORIAN
BEGIN:VEVENT
DTSTART:20180504T160000Z
DTEND:20180504T190000Z
X-MICROSOFT-CDO-ALLDAYEVENT:FALSE
SUMMARY:Vendor Demo Day
DESCRIPTION:Contractors\, Trademan\, Buiders\, Architects & Home Owners\n\nJOIN US THIS FRIDAY\n\nVendor Demo Day \n\nProduct demonstrations from Vendors: Trex\, Fasten Maters\, Therma-Tru\, Advantech\, Zip System\, Kleer\, and Grayne. Don't forget about the Free BBQ and giveaways!
X-ALT-DESC;FMTTYPE=text/html:<div style="text-align: center\;"><span style="font-size:18px"><span style="color:rgb(255\, 0\, 0)"><strong>Contractors\, Trademan\, Buiders\, Architects &amp\; Home Owners</strong></span></span><br />\n<span style="font-size:20px"><strong>JOIN US THIS FRIDAY</strong></span></div>\n\n<div style="background: rgb(238\, 238\, 238) none repeat scroll 0% 0%\; border: 1px solid rgb(204\, 204\, 204)\; padding: 5px 10px\; text-align: center\;"><span style="color:#FF0000"><span style="font-size:22px"><big><strong>Vendor Demo Day </strong></big></span></span></div>\n\n<div style="text-align: center\;">Product demonstrations from Vendors: Trex\, Fasten Maters\, Therma-Tru\, Advantech\, Zip System\, Kleer\, and Grayne. Don&#39\;t forget about the Free BBQ and giveaways!<br />\n<br />\n&nbsp\;</div>\n
LOCATION:Page Lumber Millwork & Building Supplies 360 Manchester Rd. Poughkeepsie NY 12603
UID:e.2770.10477760
SEQUENCE:3
DTSTAMP:20260425T181742Z
URL:https://business.dcrcoc.org/events/details/vendor-demo-day-10477760
END:VEVENT

END:VCALENDAR
