BEGIN:VCALENDAR
VERSION:2.0
PRODID:-//ChamberMaster//Event Calendar 2.0//EN
METHOD:PUBLISH
X-PUBLISHED-TTL:P3D
REFRESH-INTERVAL:P3D
CALSCALE:GREGORIAN
BEGIN:VEVENT
DTSTART:20191111T161500Z
DTEND:20191111T174500Z
X-MICROSOFT-CDO-ALLDAYEVENT:FALSE
SUMMARY:Veteran's Day Clinic
DESCRIPTION:Veterans Day Clinic November 11th -McCann 11:15am-12:45pm
X-ALT-DESC;FMTTYPE=text/html:Veterans Day Clinic November 11th -McCann 11:15am-12:45pm
LOCATION:McCann Ice Arena 14 Civic Center Plaza Poughkeepsie\, NY 12601
UID:e.2770.10482538
SEQUENCE:3
DTSTAMP:20260422T165855Z
URL:https://business.dcrcoc.org/events/details/veteran-s-day-clinic-10482538
END:VEVENT

END:VCALENDAR
