BEGIN:VCALENDAR
VERSION:2.0
PRODID:-//ChamberMaster//Event Calendar 2.0//EN
METHOD:PUBLISH
X-PUBLISHED-TTL:P3D
REFRESH-INTERVAL:P3D
CALSCALE:GREGORIAN
BEGIN:VEVENT
DTSTART:20171108T200000Z
DTEND:20171108T230000Z
X-MICROSOFT-CDO-ALLDAYEVENT:FALSE
SUMMARY:Veterans and Service Animals at MSMC
DESCRIPTION:In honor of Veterans Day\, on Wednesday\, November 8th\, from 3-6pm in the Dominican Center Cafe\, we will be holding an event on veterans and service animals! This event is open to all current students and veterans and active duty military members. 3 presenters and at least 10 veteran service agencies will be present to inform us about the training programs and rights of individuals for service animals that help veterans to heal! Service animals will also be present\, including our very own veteran student\, Daniel Dunn\, and his service dog\, Brady. Dan and Brady will also be presenting at 5pm!
X-ALT-DESC;FMTTYPE=text/html:In honor of Veterans Day\, on Wednesday\, November 8th\, from 3-6pm in the Dominican Center Cafe\, we will be holding an event on veterans and service animals! This event is open to all current students and veterans and active duty military members. 3 presenters and at least 10 veteran service agencies will be present to inform us about the training programs and rights of individuals for service animals that help veterans to heal! Service animals will also be present\, including our very own veteran student\, Daniel Dunn\, and his service dog\, Brady. Dan and Brady will also be presenting at 5pm!
LOCATION:330 Powell Avenue\, Newburgh\, NY 12550
UID:e.2770.10476335
SEQUENCE:3
DTSTAMP:20260426T020539Z
URL:https://business.dcrcoc.org/events/details/veterans-and-service-animals-at-msmc-10476335
END:VEVENT

END:VCALENDAR
