BEGIN:VCALENDAR
VERSION:2.0
PRODID:-//ChamberMaster//Event Calendar 2.0//EN
METHOD:PUBLISH
X-PUBLISHED-TTL:P3D
REFRESH-INTERVAL:P3D
CALSCALE:GREGORIAN
BEGIN:VEVENT
DTSTART:20171111T180000Z
DTEND:20171111T190000Z
X-MICROSOFT-CDO-ALLDAYEVENT:FALSE
SUMMARY:Veterans Day Ceremony
DESCRIPTION:Ceremony honoring veterans past and present for their service to our country.
X-ALT-DESC;FMTTYPE=text/html:Ceremony honoring veterans past and present for their service to our country.
LOCATION:Wappinger Town Hall 20 Middlebush Road Wappingers Falls\, NY 12590
UID:e.2770.10476337
SEQUENCE:3
DTSTAMP:20260426T020443Z
URL:https://business.dcrcoc.org/events/details/veterans-day-ceremony-10476337
END:VEVENT

END:VCALENDAR
