BEGIN:VCALENDAR
VERSION:2.0
PRODID:-//ChamberMaster//Event Calendar 2.0//EN
METHOD:PUBLISH
X-PUBLISHED-TTL:P3D
REFRESH-INTERVAL:P3D
CALSCALE:GREGORIAN
BEGIN:VEVENT
DTSTART:20181112T140000Z
DTEND:20181112T160000Z
X-MICROSOFT-CDO-ALLDAYEVENT:FALSE
SUMMARY:Veterans Day Hockey Clinic
DESCRIPTION:Let's hone those Hockey Skills! Clinic will be run by Brian Goodwin & the Polar Bears coaching staff! Please register at the front desk or click register now to email us! Fee: $40* per player\; Goalies free. *Fee includes admission to public skate on the same day! *
X-ALT-DESC;FMTTYPE=text/html:Let&#39\;s hone those Hockey Skills! Clinic will be run by Brian Goodwin &amp\; the Polar Bears coaching staff! Please register at the front desk or click register now to email us! Fee: $40* per player\; Goalies free. *Fee includes admission to public skate on the same day! *
LOCATION:IceTime Sports Complex 21 Lakeside Road Newburgh\, NY 12550
UID:e.2770.10479828
SEQUENCE:3
DTSTAMP:20260425T115045Z
URL:https://business.dcrcoc.org/events/details/veterans-day-hockey-clinic-10479828
END:VEVENT

END:VCALENDAR
