BEGIN:VCALENDAR
VERSION:2.0
PRODID:-//ChamberMaster//Event Calendar 2.0//EN
METHOD:PUBLISH
X-PUBLISHED-TTL:P3D
REFRESH-INTERVAL:P3D
CALSCALE:GREGORIAN
BEGIN:VEVENT
DTSTART:20190622T170000Z
DTEND:20190622T200000Z
X-MICROSOFT-CDO-ALLDAYEVENT:FALSE
SUMMARY:Vineyard Commons Open House
DESCRIPTION:Complete tour of Vineyard Commons 55+ Luxury Apartments and all it's amenities!\n\n	State of the Art Fitness Center with "Beats" system \n	Indoor/outdoor Pool and Jacuzzi\n	State of the Art Lounge\n	Full property Walking Trail/ Dog Park\n	Putting Green and Bocce Courts\n	Tennis and Shuffle Board Courts\n	Library and Art Studio\n	and More!
X-ALT-DESC;FMTTYPE=text/html:<span style="font-family:verdana"><span style="font-size:14px">Complete tour of Vineyard Commons 55+ Luxury Apartments and all it&#39\;s amenities!</span></span>\n<ul>\n	<li><span style="font-family:verdana"><span style="font-size:14px">State of the Art Fitness Center with &quot\;Beats&quot\; system </span></span></li>\n	<li><span style="font-family:verdana"><span style="font-size:14px">Indoor/outdoor Pool and Jacuzzi</span></span></li>\n	<li><span style="font-family:verdana"><span style="font-size:14px">State of the Art Lounge</span></span></li>\n	<li><span style="font-family:verdana"><span style="font-size:14px">Full property Walking Trail/ Dog Park</span></span></li>\n	<li><span style="font-family:verdana"><span style="font-size:14px">Putting Green and Bocce Courts</span></span></li>\n	<li><span style="font-family:verdana"><span style="font-size:14px">Tennis and Shuffle Board Courts</span></span></li>\n	<li><span style="font-family:verdana"><span style="font-size:14px">Library and Art Studio</span></span></li>\n	<li><span style="font-family:verdana"><span style="font-size:14px">and More!</span></span></li>\n</ul>\n
LOCATION:Vineyard Commons Lounge 6 Merlot drive\, Highland NY 12528
UID:e.2770.10480828
SEQUENCE:3
DTSTAMP:20260423T024834Z
URL:https://business.dcrcoc.org/events/details/vineyard-commons-open-house-10480828
END:VEVENT

END:VCALENDAR
