BEGIN:VCALENDAR
VERSION:2.0
PRODID:-//ChamberMaster//Event Calendar 2.0//EN
METHOD:PUBLISH
X-PUBLISHED-TTL:P3D
REFRESH-INTERVAL:P3D
CALSCALE:GREGORIAN
BEGIN:VEVENT
DTSTART:20180204T013000Z
DTEND:20180204T043000Z
X-MICROSOFT-CDO-ALLDAYEVENT:FALSE
SUMMARY:Vinny and the Cover Boys back at The Alley Kat!
DESCRIPTION:Vinny and the Cover Boys are back at The Alley Kat this Saturday! Sit back with a cold one and enjoy the night with fabulous tunes\, delicious food and mixed dink specials!\nCheck out the event details on our Facebook page:\n\nVinny and the Cover Boys back at The Alley Kat!
X-ALT-DESC;FMTTYPE=text/html:<p><span style="color:rgb(75\, 79\, 86)\; font-family:system-ui\,-apple-system\,blinkmacsystemfont\,.sfnstext-regular\,sans-serif\; font-size:14px">Vinny and the Cover Boys are back at The Alley Kat this Saturday! Sit back with a cold one and enjoy the night with fabulous tunes\, delicious food and mixed dink specials!</span></p>\nCheck out the event details on our Facebook page:<br />\n<a href="https://www.facebook.com/events/1563613940425471/">Vinny and the Cover Boys back at The Alley Kat!</a>\n\n<h1>&nbsp\;</h1>\n
LOCATION:The Alley Kat 1677 US 9 Wappingers Falls\, New York\, NY 12590
UID:e.2770.10476758
SEQUENCE:3
DTSTAMP:20260425T232521Z
URL:https://business.dcrcoc.org/events/details/vinny-and-the-cover-boys-back-at-the-alley-kat-10476758
END:VEVENT

END:VCALENDAR
