BEGIN:VCALENDAR
VERSION:2.0
PRODID:-//ChamberMaster//Event Calendar 2.0//EN
METHOD:PUBLISH
X-PUBLISHED-TTL:P3D
REFRESH-INTERVAL:P3D
CALSCALE:GREGORIAN
BEGIN:VEVENT
DTSTART:20180120T013000Z
DTEND:20180120T043000Z
X-MICROSOFT-CDO-ALLDAYEVENT:FALSE
SUMMARY:Soul City Plays The Alley Kat!
DESCRIPTION:Soul City is a classic Soul band playing songs from the 60's & 70's when Soul music was at it's finest! Kick back with the smooth sounds of Soul City while enjoying one of 14 varieties of beer on tap\, mixed drink specials and delicious food!\nCheck out the event details on our Facebook page:\n\nSoul City Plays The Alley Kat!
X-ALT-DESC;FMTTYPE=text/html:<p><span style="color:rgb(75\, 79\, 86)\; font-family:system-ui\,-apple-system\,blinkmacsystemfont\,.sfnstext-regular\,sans-serif\; font-size:14px">Soul City is a classic Soul band playing songs from the 60&#39\;s &amp\; 70&#39\;s when Soul music was at it&#39\;s finest! Kick back with the smooth sounds of Soul City while enjoying one of 14 varieties of beer on tap\, mixed drink specials and delicious food!</span></p>\nCheck out the event details on our Facebook page:<br />\n<a href="https://www.facebook.com/events/176619312938409/">Soul City Plays The Alley Kat!</a>\n\n<h1>&nbsp\;</h1>\n
LOCATION:The Alley Kat 1677 US 9 Wappingers Falls\, New York\, NY 12590
UID:e.2770.10476686
SEQUENCE:3
DTSTAMP:20260425T232538Z
URL:https://business.dcrcoc.org/events/details/vinny-and-the-cover-boys-come-to-the-alley-kat-10476686
END:VEVENT

END:VCALENDAR
