BEGIN:VCALENDAR
VERSION:2.0
PRODID:-//ChamberMaster//Event Calendar 2.0//EN
METHOD:PUBLISH
X-PUBLISHED-TTL:P3D
REFRESH-INTERVAL:P3D
CALSCALE:GREGORIAN
BEGIN:VEVENT
DTSTART:20180812T003000Z
DTEND:20180812T033000Z
X-MICROSOFT-CDO-ALLDAYEVENT:FALSE
SUMMARY:Vinny and the Cover Boys return to The Alley Kat!
DESCRIPTION:Vinny and the Cover Boys are back at The Alley Kat! Sit back with a cold one and enjoy the night with fabulous tunes\, delicious food and mixed dink specials!\n\n\n\n \n\n\n\n\n\n\nCheck out the event details on our Facebook page:\n\nVinny and the Cover Boys return to The Alley Kat!
X-ALT-DESC;FMTTYPE=text/html:<div>\n<div>\n<div>\n<div>\n<div>\n<div>\n<div><span style="color:rgb(75\, 79\, 86)\; font-family:system-ui\,-apple-system\,blinkmacsystemfont\,.sfnstext-regular\,sans-serif\; font-size:14px">Vinny and the Cover Boys are back at The Alley Kat! Sit back with a cold one and enjoy the night with fabulous tunes\, delicious food and mixed dink specials!</span><br />\n<br />\n&nbsp\;</div>\n</div>\n</div>\n</div>\n</div>\n</div>\n</div>\nCheck out the event details on our Facebook page:<br />\n<a href="https://www.facebook.com/events/2110758079166472/">Vinny and the Cover Boys return to The Alley Kat!</a>
LOCATION:The Alley Kat 1677 US 9 Wappingers Falls\, New York\, NY 12590
UID:e.2770.10479439
SEQUENCE:3
DTSTAMP:20260425T144759Z
URL:https://business.dcrcoc.org/events/details/vinny-and-the-cover-boys-return-to-the-alley-kat-08-11-2018-10479439
END:VEVENT

END:VCALENDAR
