BEGIN:VCALENDAR
VERSION:2.0
PRODID:-//ChamberMaster//Event Calendar 2.0//EN
METHOD:PUBLISH
X-PUBLISHED-TTL:P3D
REFRESH-INTERVAL:P3D
CALSCALE:GREGORIAN
BEGIN:VEVENT
DTSTART:20200520T160000Z
DTEND:20200520T170000Z
X-MICROSOFT-CDO-ALLDAYEVENT:FALSE
SUMMARY:Virtual Adelphi Information Session for MSW and BSW Program
DESCRIPTION:Social Work VIRTUAL Information Sessions include the opportunity to learn about the application process and admissions requirements for the School of Social Work at Adelphi's Hudson Valley Center. A thorough overview of the Master of Social Work program\, financial aid\, and student life are discussed.\n\n\n\nRSVP required -- unique access link to be sent upon registration. \n\nhttps://hudson-valley.adelphi.edu/admissions-events/
X-ALT-DESC;FMTTYPE=text/html:<span style="background-color:rgb(255\, 255\, 255)\; font-family:graphik\,arial\,helvetica\,sans-serif\; font-size:14px">Social Work VIRTUAL&nbsp\;Information Sessions include the opportunity to learn about the application process and admissions requirements for the School of Social Work at Adelphi's Hudson Valley Center. A thorough overview of the Master of Social Work program\, financial aid\, and student life are discussed.</span><br>\n<br>\n<span style="background-color:rgb(255\, 255\, 255)\; font-family:graphik\,arial\,helvetica\,sans-serif\; font-size:14px">RSVP required -- unique access link to be sent upon registration.&nbsp\;</span><br>\n<a href="https://hudson-valley.adelphi.edu/admissions-events/">https://hudson-valley.adelphi.edu/admissions-events/</a>
LOCATION:https://hudson-valley.adelphi.edu/admissions-events/
UID:e.2770.10483273
SEQUENCE:3
DTSTAMP:20260422T063444Z
URL:https://business.dcrcoc.org/events/details/virtual-adelphi-information-session-for-msw-and-bsw-program-10483273
END:VEVENT

END:VCALENDAR
