BEGIN:VCALENDAR
VERSION:2.0
PRODID:-//ChamberMaster//Event Calendar 2.0//EN
METHOD:PUBLISH
X-PUBLISHED-TTL:P3D
REFRESH-INTERVAL:P3D
CALSCALE:GREGORIAN
BEGIN:VEVENT
DTSTART:20200415T120000Z
DTEND:20200415T130000Z
X-MICROSOFT-CDO-ALLDAYEVENT:FALSE
SUMMARY:Virtual April Contact Breakfast
DESCRIPTION:Virtual Contact Breakfast on Wednesday\, April 15 from 8-9 am\, featuring Dutchess County Executive Marcus Molinaro\, providing updates for the business community.\n\n\n\nThis event will be available to watch on Facebook live\, with the number 845-765-7121 available to call in and ask questions.  \n\nThank you to sponsors Greystone Programs and KeyBank\n\nGuests with registrations for postponed events will be automatically registered for the re-scheduled event\, and notified of the new date.
X-ALT-DESC;FMTTYPE=text/html:<p><br />\n<span style="font-size: 14pt\; border: 1pt none windowtext\; padding: 0in\;"><span style="color:#000000\;"><strong>Virtual Contact Breakfast </strong>on&nbsp\;</span><em><a dir="ltr" href="x-apple-data-detectors://18" style="color: rgb(32\, 31\, 30)\; text-decoration-color: rgba(32\, 31\, 30\, 0.258824)\;" x-apple-data-detectors="true" x-apple-data-detectors-result="18" x-apple-data-detectors-type="calendar-event"><span style="color:#000000\;">Wednesday\, April 15 from 8-9 am</span></a></em><span style="color:#000000\;">\, featuring Dutchess County Executive Marcus Molinaro\, providing updates for the business community.</span></span><br />\n<br />\n<span style="font-size: 14pt\; border: 1pt none windowtext\; padding: 0in\;"><span style="color:#000000\;">This event will be available to watch on Facebook live\, with the number&nbsp\;</span><a dir="ltr" href="tel:845-765-7121" x-apple-data-detectors="true" x-apple-data-detectors-result="19" x-apple-data-detectors-type="telephone"><span style="color:#000000\;">845-765-7121</span></a><span style="color:#000000\;">&nbsp\;available to call in and ask questions.</span></span><span style="color:#000000\;"><span style="font-size: 14pt\; border: 1pt none windowtext\; padding: 0in\;"> &nbsp\;</span><br />\n<span style="font-size: 14pt\; border: 1pt none windowtext\; padding: 0in\;">Thank you to sponsors</span></span><span style="font-size: 14pt\; color: rgb(32\, 31\, 30)\; border: 1pt none windowtext\; padding: 0in\;">&nbsp\;</span><strong style="font-family: tahoma\; font-size: 16px\;"><a href="https://greystoneprograms.org/"><span style="color:#0000FF\;">Greystone Programs</span></a><span style="color:#0000FF\;">&nbsp\;</span></strong><span style="font-family: tahoma\; font-size: 16px\;"><span style="color:#000000\;">and</span>&nbsp\;</span><strong style="font-family: tahoma\; font-size: 16px\;"><a href="https://www.key.com/personal/index.jsp" target="_blank"><span style="color:#0000FF\;">KeyBank</span></a></strong></p>\n\n<p><span style="background: yellow\;"><span style="font-family: tahoma\, sans-serif\;"><span style="font-size: 16pt\;">Guests with registrations for postponed events will be automatically registered for the re-scheduled event\, and notified of the new date.</span></span></span><br />\n&nbsp\;</p>\n
LOCATION:
UID:e.2770.10481439
SEQUENCE:3
DTSTAMP:20260422T080936Z
URL:https://business.dcrcoc.org/events/details/virtual-april-contact-breakfast-10481439
END:VEVENT

END:VCALENDAR
