BEGIN:VCALENDAR
VERSION:2.0
PRODID:-//ChamberMaster//Event Calendar 2.0//EN
METHOD:PUBLISH
X-PUBLISHED-TTL:P3D
REFRESH-INTERVAL:P3D
CALSCALE:GREGORIAN
BEGIN:VEVENT
DTSTART:20200819T113000Z
DTEND:20200819T130000Z
X-MICROSOFT-CDO-ALLDAYEVENT:FALSE
SUMMARY:Virtual August Contact Breakfast
DESCRIPTION:The Chamber's August Breakfast will feature the first in a series of candidate forums\, this one with candidates for the 40th New York State Senate seat\, incumbent Peter Harckham and challenger\, Rob Astorino.\n\n \n\nEconomic-related questions for this forum may be sent in advance for consideration to richk@dcrcoc.org\n\n\n\nThis virtual event is open to the public and will be available to watch on Zoom.\n\nPre-registration is required\, as space is limited. \n\n\n\nTo register\, please click here\n\n\n\nThank You To Our Sponsors: DocuWare and Mid-Hudson Valley Federal Credit Union
X-ALT-DESC;FMTTYPE=text/html:<p><br />\n<span style="font-size:18px\;"><span style="font-family:times new roman\;">The Chamber&rsquo\;s August Breakfast will feature the first in a series of candidate forums\, this one with candidates for the 40<sup>th</sup> New York State Senate seat\,&nbsp\;incumbent Peter Harckham and challenger\,&nbsp\;Rob Astorino.<br />\n&nbsp\;<br />\nEconomic-related questions for this forum may be sent in advance for consideration to <strong><a href="mailto:richk@dcrcoc.org"><span style="color:#0000FF\;">richk@dcrcoc.org</span></a></strong><br />\n<br />\nThis virtual event is open to the public and will be available to watch on Zoom.<br />\nPre-registration is required\, as space is limited.&nbsp\;<br />\n<br />\nTo register\, <strong><a href="https://dcrcoc-org.zoom.us/webinar/register/WN_tSVknGSTTK2x4o8kd3pYRA" target="_blank"><span style="color:#0000FF\;">please click here</span></a></strong><br />\n<br />\nThank You To Our Sponsors: <strong><a href="https://start.docuware.com/" target="_blank"><span style="color:#0000FF\;">DocuWare</span></a></strong><span style="color:#0000FF\;"><strong>&nbsp\;</strong></span><span style="color:#000000\;">and </span><strong><a href="https://www.mhvfcu.com/?gclid=EAIaIQobChMIvMDP-fGs6gIVCIvICh1-cQlkEAAYASAAEgLp3PD_BwE" target="_blank"><span style="color:#0000FF\;">Mid-Hudson Valley Federal Credit Union</span></a></strong></span></span></p>\n
LOCATION:
UID:e.2770.10481462
SEQUENCE:3
DTSTAMP:20260422T015333Z
URL:https://business.dcrcoc.org/events/details/virtual-august-contact-breakfast-10481462
END:VEVENT

END:VCALENDAR
