BEGIN:VCALENDAR
VERSION:2.0
PRODID:-//ChamberMaster//Event Calendar 2.0//EN
METHOD:PUBLISH
X-PUBLISHED-TTL:P3D
REFRESH-INTERVAL:P3D
CALSCALE:GREGORIAN
BEGIN:VEVENT
DTSTART:20201022T113000Z
DTEND:20201022T130000Z
X-MICROSOFT-CDO-ALLDAYEVENT:FALSE
SUMMARY:Virtual Candidate Forum - New York State 18th Congressional District
DESCRIPTION:Virtual event featuring a candidate forum with the major party candidates for New York State's 18th congressional district seat\, incumbent Sean Patrick Maloney and challenger\, Chele Farley.\n\n\n\nThis virtual event is open to the public and will be available to watch on Zoom.\n\nPre-registration is required\, as space is limited. \n\n \n\nEconomic-related questions for this forum may be sent in advance for consideration to richk@dcrcoc.org\n\n\n\nTo Register\, Please Click Here\n\n\n\nSponsored by: MidHudson Regional Hospital
X-ALT-DESC;FMTTYPE=text/html:<p><br />\n<span style="font-family: &quot\;times new roman&quot\;\; font-size: 18px\;">Virtual event featuring a candidate forum with the major party candidates for&nbsp\;</span><span style="font-family: &quot\;times new roman&quot\;\; font-size: 18px\; color: rgb(34\, 34\, 34)\;">New York State&#39\;s&nbsp\;18th congressional district seat\, incumbent Sean Patrick Maloney&nbsp\;and challenger\,&nbsp\;Chele Farley.</span><br />\n<br />\n<span style="font-size:18px\;"><span style="font-family:times new roman\;"><span style="background:white\;"><span style="color:#333333\;">This virtual event is open to the public and will be available to watch on Zoom.</span></span><br style="font-variant-ligatures:normal\;font-variant-caps:normal\;orphans:2\;text-align:start\;widows:2\;-webkit-text-stroke-width:0px\;text-decoration-style:initial\;word-spacing:0px\;" />\n<span style="color:#333333\;"><span style="background:white\;"><span style="font-variant-ligatures:normal\;font-variant-caps:normal\;orphans:2\;text-align:start\;widows:2\;-webkit-text-stroke-width:0px\;text-decoration-style:initial\;float:none\;word-spacing:0px\;">Pre-registration is required\, as space is limited.&nbsp\;</span></span></span><br />\n&nbsp\;</span></span><br />\n<span style="font-family: &quot\;times new roman&quot\;\; font-size: 18px\; background-image: initial\; background-position: initial\; background-size: initial\; background-repeat: initial\; background-attachment: initial\; background-origin: initial\; background-clip: initial\;">Economic-related questions for this forum may be sent in advance for consideration to&nbsp\;</span><strong style="font-family: &quot\;times new roman&quot\;\; font-size: 18px\;"><a href="mailto:richk@dcrcoc.org"><span style="color: rgb(0\, 0\, 255)\;">richk@dcrcoc.org</span></a></strong><br />\n<br />\n<span style="font-size:18px\;"><span style="font-family:times new roman\;"><span style="color:#000000\;">To Register\, Please Click</span> <strong><a href="https://dcrcoc-org.zoom.us/webinar/register/WN_tX3gS8gQSIe3s4cHgXoyKg" target="_blank"><span style="color:#0000FF\;">Here</span></a></strong></span></span><br />\n<br />\n<span style="background:white\;"><span style="font-size:13.5pt\;"><span style="font-size:18px\;"><span style="font-family:times new roman\;"><span style="color:#000000\;">Sponsored by:</span><span style="color:#333333\;"><span style="font-size:13.5pt\;"><span style="font-size:18px\;"><span style="font-family:times new roman\;"> </span></span></span></span><strong><a href="https://www.midhudsonregional.org/" target="_blank"><span style="color:#0000FF\;">MidHudson Regional Hospital</span></a></strong></span></span></span><span style="color:#333333\;"><span style="font-size:13.5pt\;"><span style="font-size:18px\;"><span style="font-family:times new roman\;">&nbsp\;</span></span></span></span></span><br />\n&nbsp\;</p>\n
LOCATION:
UID:e.2770.10484446
SEQUENCE:3
DTSTAMP:20260421T223404Z
URL:https://business.dcrcoc.org/events/details/virtual-candidate-forum-new-york-state-18th-congressional-district-10484446
END:VEVENT

END:VCALENDAR
