BEGIN:VCALENDAR
VERSION:2.0
PRODID:-//ChamberMaster//Event Calendar 2.0//EN
METHOD:PUBLISH
X-PUBLISHED-TTL:P3D
REFRESH-INTERVAL:P3D
CALSCALE:GREGORIAN
BEGIN:VEVENT
DTSTART:20201014T113000Z
DTEND:20201014T130000Z
X-MICROSOFT-CDO-ALLDAYEVENT:FALSE
SUMMARY:Virtual Candidate Forum - New York State 19th Congressional District
DESCRIPTION:Virtual event featuring a candidate forum with the major party candidates for New York State's 19th congressional district seat\, incumbent Antonio Delgado and challenger\, Kyle Van De Water.\n\n\n\nThis virtual event is open to the public and will be available to watch on Zoom.\n\nPre-registration is required\, as space is limited. \n\n \n\nTo register\, please click here.\n\n\n\nEconomic-related questions for this forum may be sent in advance for consideration to richk@dcrcoc.org\n\n\n\nSponsored by: Marshall & Sterling Insurance\, Royal Carting Service Company\, Tompkins Mahopac Bank
X-ALT-DESC;FMTTYPE=text/html:<p><br />\n<span style="font-family: &quot\;times new roman&quot\;\; font-size: 18px\;">Virtual event featuring a candidate forum with the major party candidates for&nbsp\;</span><span style="font-family: &quot\;times new roman&quot\;\; font-size: 18px\; color: rgb(34\, 34\, 34)\;">New York State&#39\;s&nbsp\;19th congressional district seat\, incumbent Antonio Delgado and challenger\,&nbsp\;Kyle Van De Water.</span><br />\n<br />\n<span style="font-size:18px\;"><span style="font-family:times new roman\;"><span style="background:white\;"><span style="color:#333333\;">This virtual event is open to the public and will be available to watch on Zoom.</span></span><br style="font-variant-ligatures:normal\;font-variant-caps:normal\;orphans:2\;text-align:start\;widows:2\;-webkit-text-stroke-width:0px\;text-decoration-style:initial\;word-spacing:0px\;" />\n<span style="color:#333333\;"><span style="background:white\;"><span style="font-variant-ligatures:normal\;font-variant-caps:normal\;orphans:2\;text-align:start\;widows:2\;-webkit-text-stroke-width:0px\;text-decoration-style:initial\;float:none\;word-spacing:0px\;">Pre-registration is required\, as space is limited.&nbsp\;</span></span></span><br />\n&nbsp\;</span></span><br />\n<span style="background:white\;"><span style="color:#333333\;"><span style="font-size:13.5pt\;"><span style="font-size:18px\;"><span style="font-family:times new roman\;">To register\, please click </span></span></span></span><strong><span style="font-size:13.5pt\;"><span style="font-size:18px\;"><span style="font-family:times new roman\;"><a href="https://dcrcoc-org.zoom.us/webinar/register/WN_f_076VDdR2Czw5cYnXsHaw" target="_blank"><span style="color:#0000FF\;">here</span></a></span></span></span></strong><span style="color:#333333\;"><span style="font-size:13.5pt\;"><span style="font-size:18px\;"><span style="font-family:times new roman\;">.</span></span></span></span></span><br />\n<br />\n<span style="font-family: &quot\;times new roman&quot\;\; font-size: 18px\; background-image: initial\; background-position: initial\; background-size: initial\; background-repeat: initial\; background-attachment: initial\; background-origin: initial\; background-clip: initial\;">Economic-related questions for this forum may be sent in advance for consideration to&nbsp\;</span><strong style="font-family: &quot\;times new roman&quot\;\; font-size: 18px\;"><a href="mailto:richk@dcrcoc.org"><span style="color: rgb(0\, 0\, 255)\;">richk@dcrcoc.org</span></a></strong><br />\n<br />\n<span style="background:white\;"><span style="color:#000000\;"><span style="font-size:13.5pt\;"><span style="font-size:18px\;"><span style="font-family:times new roman\;"><strong>Sponsored by</strong>:</span></span></span></span><span style="color:#333333\;"><span style="font-size:13.5pt\;"><span style="font-size:18px\;"><span style="font-family:times new roman\;"> </span></span></span></span><strong><span style="font-size:13.5pt\;"><span style="font-size:18px\;"><span style="font-family:times new roman\;"><a href="https://www.marshallsterling.com/" target="_blank"><span style="color:#0000FF\;">Marshall &amp\; Sterling Insurance</span></a><span style="color:#000000\;">\, </span><a href="https://www.royalcarting.us/" target="_blank"><span style="color:#0000FF\;">Royal Carting Service Company</span></a><span style="color:#000000\;">\, </span><a href="https://www.mahopacbank.com/?gclid=EAIaIQobChMIr8Po4Pu76wIVE2KGCh1qVghmEAAYASAAEgK-pvD_BwE" target="_blank"><span style="color:#0000FF\;">Tompkins Mahopac Bank</span></a></span></span></span></strong></span><br />\n&nbsp\;</p>\n
LOCATION:
UID:e.2770.10482524
SEQUENCE:3
DTSTAMP:20260421T223429Z
URL:https://business.dcrcoc.org/events/details/virtual-candidate-forum-new-york-state-19th-congressional-district-10482524
END:VEVENT

END:VCALENDAR
