BEGIN:VCALENDAR
VERSION:2.0
PRODID:-//ChamberMaster//Event Calendar 2.0//EN
METHOD:PUBLISH
X-PUBLISHED-TTL:P3D
REFRESH-INTERVAL:P3D
CALSCALE:GREGORIAN
BEGIN:VEVENT
DTSTART:20200923T113000Z
DTEND:20200923T130000Z
X-MICROSOFT-CDO-ALLDAYEVENT:FALSE
SUMMARY:Virtual Candidate Forum - New York State Assembly District 105
DESCRIPTION:This virtual event will feature a candidate forum\, this one with candidates for New York State Assembly District 105 seat\, incumbent Kieran Lalor and challenger\, Laurette Giardino.\n\n\n\nThis virtual event is open to the public and will be available to watch on Zoom.\n\nPre-registration is required\, as space is limited. \n\n \n\nTo register\, please click here.\n\n\n\nEconomic-related questions for this forum may be sent in advance for consideration to richk@dcrcoc.org\n\n\n\n\n\nSponsored By: DCH Wappingers Falls Toyota\, Morgan Strategic Wealth\, and N&S Supply
X-ALT-DESC;FMTTYPE=text/html:<p><br />\n<span style="font-size:18px\;"><span style="font-family:times new roman\;">This virtual event will feature a&nbsp\;candidate forum\, this one with candidates for New York State&nbsp\;<span style="color: rgb(34\, 34\, 34)\;">Assembly District 105 seat\,&nbsp\;</span></span></span><span style="font-family: &quot\;times new roman&quot\;\; font-size: 18px\;">incumbent Kieran Lalor and challenger\, Laurette Giardino.</span><br />\n<br />\n<span style="font-size:18px\;"><span style="font-family:times new roman\;"><span style="background:white\;"><span style="color:#333333\;">This virtual event is open to the public and will be available to watch on Zoom.</span></span><br style="font-variant-ligatures:normal\;font-variant-caps:normal\;orphans:2\;text-align:start\;widows:2\;-webkit-text-stroke-width:0px\;text-decoration-style:initial\;word-spacing:0px\;" />\n<span style="color:#333333\;"><span style="background:white\;"><span style="font-variant-ligatures:normal\;font-variant-caps:normal\;orphans:2\;text-align:start\;widows:2\;-webkit-text-stroke-width:0px\;text-decoration-style:initial\;float:none\;word-spacing:0px\;">Pre-registration is required\, as space is limited.&nbsp\;</span></span></span><br />\n&nbsp\;<br />\n<span style="background:white\;"><span style="color:#333333\;">To register\, please click </span><strong><a href="https://dcrcoc-org.zoom.us/webinar/register/WN_Nr2o3a71RZuWUdB1aHxDIw" target="_blank"><span style="color:#0000FF\;">here</span></a></strong><span style="color:#333333\;">.</span></span></span></span><br />\n<br />\n<span style="font-family: &quot\;times new roman&quot\;\; font-size: 18px\; background-image: initial\; background-position: initial\; background-size: initial\; background-repeat: initial\; background-attachment: initial\; background-origin: initial\; background-clip: initial\;">Economic-related questions for this forum may be sent in advance for consideration to&nbsp\;</span><strong style="font-family: &quot\;times new roman&quot\;\; font-size: 18px\;"><a href="mailto:richk@dcrcoc.org"><span style="color: rgb(0\, 0\, 255)\;">richk@dcrcoc.org</span></a></strong><br />\n<br />\n<br />\n<span style="font-size:16px\;"><span style="font-family:tahoma\;"><span style="font-size:18px\;"><span style="font-family:times new roman\;">Sponsored By: <strong><a href="https://www.dchwappingerstoyota.com/?utm_source=google&amp\;utm_medium=organic&amp\;utm_campaign=googlemybusiness" target="_blank"><span style="color:#0000FF\;">DCH Wappingers Falls Toyota</span></a><span style="color:#0000FF\;">\,&nbsp\;</span></strong></span></span></span></span><a href="https://www.morganwealth.net/" style="font-family: tahoma\; font-size: 18px\;" target="_blank"><span style="color: rgb(0\, 0\, 255)\;"><span style="font-family: &quot\;times new roman&quot\;\;"><strong>Morgan Strategic Wealth</strong></span></span></a><span style="font-family: tahoma\; font-size: 18px\; color: rgb(0\, 0\, 0)\;"><span style="font-family: &quot\;times new roman&quot\;\;"><strong>\, and</strong></span></span><span style="font-family: tahoma\; font-size: 18px\; color: rgb(0\, 0\, 255)\;"><span style="font-family: &quot\;times new roman&quot\;\;"><strong>&nbsp\;</strong></span></span><span style="font-family: tahoma\; font-size: 18px\;"><span style="font-family: &quot\;times new roman&quot\;\;"><strong><a href="https://www.nssupply.com/" target="_blank"><span style="color:#0000FF\;">N&amp\;S Supply</span></a></strong></span></span></p>\n
LOCATION:
UID:e.2770.10484445
SEQUENCE:3
DTSTAMP:20260422T000037Z
URL:https://business.dcrcoc.org/events/details/virtual-candidate-forum-new-york-state-assembly-district-105-10484445
END:VEVENT

END:VCALENDAR
