BEGIN:VCALENDAR
VERSION:2.0
PRODID:-//ChamberMaster//Event Calendar 2.0//EN
METHOD:PUBLISH
X-PUBLISHED-TTL:P3D
REFRESH-INTERVAL:P3D
CALSCALE:GREGORIAN
BEGIN:VEVENT
DTSTART:20200902T220000Z
DTEND:20200902T230000Z
X-MICROSOFT-CDO-ALLDAYEVENT:FALSE
SUMMARY:VIRTUAL Excellence in Nursing Awards
DESCRIPTION:Hudson Valley Magazine presents its annual Excellence in Nursing Awards. This year we have gone VIRTUAL! This elegant evening honors local nurses who have gone above and beyond the call of duty\, as voted by a panel of judges. The Top 20 nurses are also profiled in the May issue of Hudson Valley Magazine.
X-ALT-DESC;FMTTYPE=text/html:Hudson Valley Magazine presents its annual Excellence in Nursing Awards. This year we have gone VIRTUAL! This elegant evening honors local nurses who have gone above and beyond the call of duty\, as voted by a panel of judges. The Top 20 nurses are also profiled in the May issue of Hudson Valley Magazine.
LOCATION:VIRTUAL
UID:e.2770.10484429
SEQUENCE:3
DTSTAMP:20260422T001755Z
URL:https://business.dcrcoc.org/events/details/virtual-excellence-in-nursing-awards-10484429
END:VEVENT

END:VCALENDAR
