BEGIN:VCALENDAR
VERSION:2.0
PRODID:-//ChamberMaster//Event Calendar 2.0//EN
METHOD:PUBLISH
X-PUBLISHED-TTL:P3D
REFRESH-INTERVAL:P3D
CALSCALE:GREGORIAN
BEGIN:VEVENT
DTSTART:20200521T210000Z
DTEND:20200521T230000Z
X-MICROSOFT-CDO-ALLDAYEVENT:FALSE
SUMMARY:VIRTUAL Hudson Valley Young Professionals Unwind Networking
DESCRIPTION:Join us to network with the Hudson Valley Young Professionals!\n\n\n\nTo Register: https://us02web.zoom.us/meeting/register/tZApd-6gqz8iGdMHGAz_7jTjA0UZBP6J4ril \n\n\n\nPre-registration is required\, as space is limited. \n\n\n\nSponsored by: Royal Carting Service Company
X-ALT-DESC;FMTTYPE=text/html:<br />\n<span style="font-size:16px\;"><span style="font-family:tahoma\;"><span style="color:#000000\;">Join us to network with the Hudson Valley Young Professionals!</span></span><br />\n<br />\n<span style="color:#000000\;"><strong>To Register:</strong>&nbsp\;</span></span><strong><span style="background:white\;"><span style="font-family:calibri\,sans-serif\;"><span style="font-size:11.0pt\;"><a href="https://us02web.zoom.us/meeting/register/tZApd-6gqz8iGdMHGAz_7jTjA0UZBP6J4ril" target="_blank"><span style="color:#0000FF\;">https://us02web.zoom.us/meeting/register/tZApd-6gqz8iGdMHGAz_7jTjA0UZBP6J4ril</span></a></span></span></span><a href="https://us02web.zoom.us/meeting/register/tZApd-6gqz8iGdMHGAz_7jTjA0UZBP6J4ril" target="_blank"><span style="color:#0000FF\;"><span style="background:white\;"><span style="font-family:calibri\,sans-serif\;"><span style="font-size:11.0pt\;">&nbsp\;</span></span></span></span></a></strong><br />\n<br />\n<span style="color: rgb(0\, 0\, 0)\; font-family: tahoma\; font-size: 16px\;">Pre-registration is required\, as space is limited.&nbsp\;</span><br />\n<br />\n<span style="font-size:16px\;"><span style="font-family:tahoma\;"><span style="color:#000000\;">Sponsored by:</span> <strong><a href="https://www.royalcarting.us/" target="_blank"><span style="color:#0000FF\;">Royal Carting Service Company</span></a></strong></span></span>
LOCATION:
UID:e.2770.10483284
SEQUENCE:3
DTSTAMP:20260422T063815Z
URL:https://business.dcrcoc.org/events/details/virtual-hudson-valley-young-professionals-unwind-networking-10483284
END:VEVENT

END:VCALENDAR
