BEGIN:VCALENDAR
VERSION:2.0
PRODID:-//ChamberMaster//Event Calendar 2.0//EN
METHOD:PUBLISH
X-PUBLISHED-TTL:P3D
REFRESH-INTERVAL:P3D
CALSCALE:GREGORIAN
BEGIN:VEVENT
DTSTART:20200617T120000Z
DTEND:20200617T133000Z
X-MICROSOFT-CDO-ALLDAYEVENT:FALSE
SUMMARY:Virtual June Contact Breakfast
DESCRIPTION:Monthly Contact Breakfast\n\n\n\nThe Chamber's June Contact Breakfast will feature a special program from The Chamber Foundation and the presentation of scholarships.\n\n\n\nSponsored By: Rhinebeck Bank\n\n\n\nTo Register\, Click: HERE
X-ALT-DESC;FMTTYPE=text/html:<p><br />\n<span style="font-size:16px\;"><span style="font-family:tahoma\;"><span style="color: black\;">Monthly Contact Breakfast</span><br />\n<br />\n<span style="color: black\;">The Chamber&rsquo\;s June Contact Breakfast will feature a special program from The Chamber Foundation and the presentation of scholarships.<br />\n<br />\n<strong>Sponsored By</strong>: </span><strong><a href="https://www.rhinebeckbank.com/" target="_blank"><span style="color:#0000CD\;">Rhinebeck Bank</span></a></strong><br />\n<br />\n<span style="color: black\;"><strong>To Register\, Click:</strong>&nbsp\;</span><strong><a href="https://us02web.zoom.us/webinar/register/WN_IQe_I6ItSh-Cm57wvY18Og" target="_blank"><span style="color:#0000FF\;">HERE</span></a></strong><span style="color: black\;">&nbsp\;</span></span></span></p>\n
LOCATION:Zoom
UID:e.2770.10481448
SEQUENCE:3
DTSTAMP:20260422T044649Z
URL:https://business.dcrcoc.org/events/details/virtual-june-contact-breakfast-10481448
END:VEVENT

END:VCALENDAR
