BEGIN:VCALENDAR
VERSION:2.0
PRODID:-//ChamberMaster//Event Calendar 2.0//EN
METHOD:PUBLISH
X-PUBLISHED-TTL:P3D
REFRESH-INTERVAL:P3D
CALSCALE:GREGORIAN
BEGIN:VEVENT
DTSTART:20210310T140000Z
DTEND:20210310T150000Z
X-MICROSOFT-CDO-ALLDAYEVENT:FALSE
SUMMARY:Virtual Legislative Action Committee Event
DESCRIPTION:Special event presented by the Legislative Action Committee and open to the general membership and guests. Our federal representatives\, Antonio Delgado and Sean Patrick Maloney will give an update on legislation relevant to the Hudson Valley business community\, and answer questions.\n\n\n\nThis event will be held on Zoom\, and registration is required as space is limited.\n\n \nTo Register: Please Click Here\n\n\nThank you to our sponsors: JGS CPA\, N&S Supply LLC and Quality Environmental Solutions & Technologies\, Inc.
X-ALT-DESC;FMTTYPE=text/html:<br />\n<span style="color:#000000\;"><span style="font-size:18px\;"><span style="font-family:times new roman\;">Special event presented by the Legislative Action Committee and open to the general membership and guests. Our federal representatives\, Antonio Delgado and Sean Patrick Maloney will give an update on legislation relevant to the Hudson Valley business community\, and answer questions.</span></span><br />\n<br />\n<span style="font-family: &quot\;times new roman&quot\;\; font-size: 18px\;">This event will be held on Zoom\, and registration is required as space is limited.</span></span><br style="color: rgb(0\, 0\, 0)\; font-family: &quot\;times new roman&quot\;\; font-size: 18px\;" />\n&nbsp\;\n<p><span style="color: rgb(0\, 0\, 0)\;"><span style="font-family: &quot\;times new roman&quot\;\; font-size: 18px\; font-weight: 700\;">To Register: Please Click</span></span><span style="font-family: &quot\;times new roman&quot\;\; font-size: 18px\; font-weight: 700\;">&nbsp\;</span><strong style="font-family: &quot\;times new roman&quot\;\; font-size: 18px\;"><a href="https://dcrcoc-org.zoom.us/webinar/register/WN_OdQjRauvSFakDdCAgi6a_A" style="color: rgb(0\, 86\, 150)\; box-sizing: border-box\; background-color: transparent\; text-decoration-line: none\; overflow-wrap: break-word\; outline: 0px\;" target="_blank"><span style="box-sizing: border-box\; color: rgb(0\, 0\, 255)\;">Here</span></a></strong></p>\n<br />\n<span style="font-size:18px\;"><span style="font-family:times new roman\;"><span style="color:#000000\;"><strong>Thank you to our sponsors: </strong></span><strong><a href="https://jgspc.com/" target="_blank"><span style="color:#0000FF\;">JGS CPA</span></a></strong><span style="color:#000000\;"><strong>\, </strong></span><strong><a href="https://www.nssupply.com/" target="_blank"><span style="color:#0000FF\;">N&amp\;S Supply LLC</span></a></strong><span style="color:#000000\;"><strong> and </strong></span><strong><a href="https://www.qualityenv.com/" target="_blank"><span style="color:#0000FF\;">Quality Environmental Solutions &amp\; Technologies\, Inc.</span></a></strong></span></span>
LOCATION:Zoom
UID:e.2770.10484945
SEQUENCE:3
DTSTAMP:20260421T143344Z
URL:https://business.dcrcoc.org/events/details/virtual-legislative-action-committee-event-10484945
END:VEVENT

END:VCALENDAR
