BEGIN:VCALENDAR
VERSION:2.0
PRODID:-//ChamberMaster//Event Calendar 2.0//EN
METHOD:PUBLISH
X-PUBLISHED-TTL:P3D
REFRESH-INTERVAL:P3D
CALSCALE:GREGORIAN
BEGIN:VEVENT
DTSTART:20210114T170000Z
DTEND:20210114T183000Z
X-MICROSOFT-CDO-ALLDAYEVENT:FALSE
SUMMARY:Virtual Master Your Membership
DESCRIPTION:Whether a brand new member\, a new employee of an existing member\, or a member just getting back into the swing of things\, the best place to start is by attending Master Your Membership.\n\n\n\nAttendees will learn how the departments of membership\, events\, communications\, The Chamber Foundation\, and Workforce Development Center operate for the benefit of members. Information about all the services included with your membership dues will be provided and this is a great opportunity to ask questions. Learn more about taking advantage of membership benefits\, as well as additional information regarding advocacy and resources. \n\n\n\nRegistration is required in advance\, as space is limited. \n\n\n\nTo Register: Please Click Here\n\n\n\nThank you to our sponsors: AtlasStar\, Ltd. and Branding Pros
X-ALT-DESC;FMTTYPE=text/html:<p style="background: white\; margin: 0in 0in 0pt\;"><br />\n<span style="font-family:times new roman\;"><span style="font-size:18px\;"><span style="color:#000000\;">Whether a brand new member\, a new employee of an existing member\, or a member just getting back into the swing of things\, the best place to start is by attending Master Your Membership.<br />\n<br />\nAttendees will learn how the departments of membership\, events\, communications\, The Chamber Foundation\, and Workforce Development Center operate for the benefit of members. Information about all the services included with your membership dues will be provided and this is a great opportunity to ask questions. Learn more about taking advantage of membership benefits\, as well as additional information regarding advocacy and resources.&nbsp\;<br />\n<br />\nRegistration is required in advance\, as space is limited.&nbsp\;</span><br />\n<br />\n<strong>To Register: Please Click <a href="https://dcrcoc-org.zoom.us/meeting/register/tZcsd-2grzguGtyhBLeL0KC_6IjuPNuouxE_" target="_blank"><span style="color:#0000FF\;">Here</span></a></strong><br />\n<br />\n<strong>Thank you to our sponsors:</strong><strong><span style="color:#0000FF\;">&nbsp\;</span><a href="https://www.atlastar.com/" target="_blank"><span style="color:#0000FF\;">AtlasStar\, Ltd.</span></a><span style="color:#0000FF\;">&nbsp\;</span></strong><span style="color:#000000\;">and&nbsp\;</span></span></span><strong style="font-family: &quot\;times new roman&quot\;\; font-size: 18px\;"><a href="https://www.brandingpros.com/" target="_blank"><span style="color: rgb(0\, 0\, 255)\;">Branding Pros</span></a></strong></p>\n
LOCATION:
UID:e.2770.10484508
SEQUENCE:3
DTSTAMP:20260421T174946Z
URL:https://business.dcrcoc.org/events/details/virtual-master-your-membership-10484508
END:VEVENT

END:VCALENDAR
