BEGIN:VCALENDAR
VERSION:2.0
PRODID:-//ChamberMaster//Event Calendar 2.0//EN
METHOD:PUBLISH
X-PUBLISHED-TTL:P3D
REFRESH-INTERVAL:P3D
CALSCALE:GREGORIAN
BEGIN:VEVENT
DTSTART:20210225T170000Z
DTEND:20210225T183000Z
X-MICROSOFT-CDO-ALLDAYEVENT:FALSE
SUMMARY:Virtual Memory Cafe
DESCRIPTION:Join us for a free virtual social program in partnership with The Bristal Assisted Living for people with early-stage dementia and their family caregivers. This program works with Rhythm Break Cares to provide the restorative power of music\, movement and touch to older adults with dementia. Prescreening is required for this early-stage group. Call the Alzheimer's Association at 800.272.3900.
X-ALT-DESC;FMTTYPE=text/html:<p>Join us for a free virtual social program in partnership with The Bristal Assisted Living for people with early-stage dementia and their family caregivers. This program works with Rhythm Break Cares to provide the restorative power of music\, movement and touch to older adults with dementia. Prescreening is required for this early-stage group. Call the Alzheimer&#39\;s Association at 800.272.3900.</p>\n
LOCATION:
UID:e.2770.10484973
SEQUENCE:3
DTSTAMP:20260421T174842Z
URL:https://business.dcrcoc.org/events/details/virtual-memory-cafe-10484973
END:VEVENT

END:VCALENDAR
