BEGIN:VCALENDAR
VERSION:2.0
PRODID:-//ChamberMaster//Event Calendar 2.0//EN
METHOD:PUBLISH
X-PUBLISHED-TTL:P3D
REFRESH-INTERVAL:P3D
CALSCALE:GREGORIAN
BEGIN:VEVENT
DTSTART:20200501T120000Z
DTEND:20200501T133000Z
X-MICROSOFT-CDO-ALLDAYEVENT:FALSE
SUMMARY:VIRTUAL Network\, Present & Refer
DESCRIPTION:The Chamber presents a virtual Network\, Present & Refer event on Friday\, May 1 at 8 am. Chamber members from all categories will be able to present for 2 minutes to a collection of 25 members - describing their business or organization\, what they are doing to react to the COVID-19 pandemic or preparing for the return to a new normal\, and who a good referral source is for them. Attendees are limited to one per organization and one per industry. Other similar events will be scheduled later.\n\n\n\nRegistration is required and will need to be approved to ensure industry exclusivity.\n\n\n\nInterested in registering? Please contact: chelsea@dcrcoc.org\n\n\n\n\n\nSponsored by: Children's Home of Poughkeepsie and Mount Saint Mary College
X-ALT-DESC;FMTTYPE=text/html:<br />\n<span style="font-size:18px\;"><span style="font-family:times new roman\;"><span style="color: rgb(35\, 35\, 51)\;">The Chamber presents a virtual Network\, Present &amp\; Refer event on Friday\, May 1 at 8 am. Chamber members from all categories will be able to present for 2 minutes to a collection of 25 members - describing their business or organization\, what they are doing to react to the COVID-19 pandemic or preparing for the return to a new normal\, and who a good referral source is for them. Attendees are limited to one per organization and one per industry. Other similar events will be scheduled later.</span></span></span><br />\n<br />\n<span style="color: rgb(35\, 35\, 51)\; font-family: &quot\;times new roman&quot\;\; font-size: 18px\;">Registration is required and will need to be approved to ensure industry exclusivity.<br />\n<br />\nInterested in registering? Please contact:</span><span style="font-family: &quot\;times new roman&quot\;\; font-size: 18px\;"><strong><span style="color:#0000FF\;"> </span><a href="mailto:chelsea@dcrcoc.org"><span style="color:#0000FF\;">chelsea@dcrcoc.org</span></a></strong></span><br />\n<br />\n<br />\n<strong><span style="font-size:18px\;"><span style="font-family:times new roman\;">Sponsored by: <a href="https://www.childrenshome.us/" target="_blank"><span style="color:#0000FF\;">Children&#39\;s Home of Poughkeepsie</span></a> and&nbsp\;<a href="https://www.msmc.edu/" target="_blank"><span style="color:#0000FF\;">Mount Saint Mary College</span></a></span></span></strong>
LOCATION:
UID:e.2770.10483265
SEQUENCE:3
DTSTAMP:20260422T063654Z
URL:https://business.dcrcoc.org/events/details/virtual-network-present-refer-10483265
END:VEVENT

END:VCALENDAR
