BEGIN:VCALENDAR
VERSION:2.0
PRODID:-//ChamberMaster//Event Calendar 2.0//EN
METHOD:PUBLISH
X-PUBLISHED-TTL:P3D
REFRESH-INTERVAL:P3D
CALSCALE:GREGORIAN
BEGIN:VEVENT
DTSTART:20201016T160000Z
DTEND:20201016T173000Z
X-MICROSOFT-CDO-ALLDAYEVENT:FALSE
SUMMARY:VIRTUAL Network\, Present & Refer
DESCRIPTION:The Chamber presents a virtual Network\, Present & Refer event on Friday\, October 16th at 12 noon. Chamber members from all categories will be able to present for 2 minutes to a collection of 25 members - describing their business or organization\, what they are doing to react to the COVID-19 pandemic or preparing for the return to a new normal\, and who a good referral source is for them. Attendees are limited to one per organization and one per industry. \n\n\n\nRegistration is required and will need to be approved to ensure industry exclusivity.\n\nOther similar events will be scheduled later.\n\n\n\nInterested in registering? Please email jgalow@dcrcoc.org. \n\n\n\nSponsored by: Tompkins Mahopac Bank
X-ALT-DESC;FMTTYPE=text/html:<br />\n<span style="font-size:16px\;"><span style="font-family:tahoma\;"><span style="color:#000000\;"><span style="background-image: initial\; background-position: initial\; background-size: initial\; background-repeat: initial\; background-attachment: initial\; background-origin: initial\; background-clip: initial\;">The Chamber presents a virtual Network\, Present &amp\; Refer event on Friday\, October 16th at 12 noon. Chamber members from all categories will be able to present for 2 minutes to a collection of 25 members - describing their business or organization\, what they are doing to react to the COVID-19 pandemic or preparing for the return to a new normal\, and who a good referral source is for them. Attendees are limited to one per organization and one per industry. </span><br />\n<br />\nRegistration is required and will need to be approved to ensure industry exclusivity.</span><br />\n<span style="color:#000000\;"><span style="background-image: initial\; background-position: initial\; background-size: initial\; background-repeat: initial\; background-attachment: initial\; background-origin: initial\; background-clip: initial\;">Other similar events will be scheduled later.<br />\n<br />\nInterested in registering? Please email </span></span><span style="background-image: initial\; background-position: initial\; background-size: initial\; background-repeat: initial\; background-attachment: initial\; background-origin: initial\; background-clip: initial\;"><strong><a href="mailto:jgalow@dcrcoc.org"><span style="color:#0000FF\;">jgalow@dcrcoc.org</span></a></strong></span><span style="color: rgb(35\, 35\, 51)\; background-image: initial\; background-position: initial\; background-size: initial\; background-repeat: initial\; background-attachment: initial\; background-origin: initial\; background-clip: initial\;">. </span><br />\n<br />\n<strong>Sponsored by:&nbsp\;<a href="https://www.mahopacbank.com/" target="_blank"><span style="color:#0000FF\;">Tompkins Mahopac Bank&nbsp\;</span></a></strong></span></span>
LOCATION:Zoom & Boardman Road Library - 141 Boardman Road\, Poughkeepsie
UID:e.2770.10484469
SEQUENCE:3
DTSTAMP:20260421T222941Z
URL:https://business.dcrcoc.org/events/details/virtual-network-present-refer-10484469
END:VEVENT

END:VCALENDAR
