BEGIN:VCALENDAR
VERSION:2.0
PRODID:-//ChamberMaster//Event Calendar 2.0//EN
METHOD:PUBLISH
X-PUBLISHED-TTL:P3D
REFRESH-INTERVAL:P3D
CALSCALE:GREGORIAN
BEGIN:VEVENT
DTSTART:20201210T170000Z
DTEND:20201210T183000Z
X-MICROSOFT-CDO-ALLDAYEVENT:FALSE
SUMMARY:VIRTUAL Network\, Present & Refer
DESCRIPTION:The Chamber presents a virtual Network\, Present & Refer event on Thursday\, December 10th at 12 noon. Chamber members from all categories will be able to present for 2 minutes to a collection of 25 members - describing their business or organization\, and who a good referral source is for them. Attendees are limited to one per organization and one per industry. \n\n\n\nRegistration is required and will need to be approved to ensure industry exclusivity.\n\nOther similar events will be scheduled later.\n\n\n\nInterested in registering? Please email jgalow@dcrcoc.org\n\n\n\nSponsored by: Branding Pros and Stenger\, Diamond & Glass\, LLP - SDG Law
X-ALT-DESC;FMTTYPE=text/html:<br />\n<span style="font-size:16px\;"><span style="font-family:tahoma\;"><span style="color:#000000\;"><span style="background-image: initial\; background-position: initial\; background-size: initial\; background-repeat: initial\; background-attachment: initial\; background-origin: initial\; background-clip: initial\;">The Chamber presents a virtual Network\, Present &amp\; Refer event on Thursday\, December 10th at 12 noon. Chamber members from all categories will be able to present for 2 minutes to a collection of 25 members - describing their business or organization\, and who a good referral source is for them. Attendees are limited to one per organization and one per industry. </span><br />\n<br />\nRegistration is required and will need to be approved to ensure industry exclusivity.</span><br />\n<span style="background-image: initial\; background-position: initial\; background-size: initial\; background-repeat: initial\; background-attachment: initial\; background-origin: initial\; background-clip: initial\;"><span style="color:#000000\;">Other similar events will be scheduled later.<br />\n<br />\nInterested in registering? Please email</span><span style="color:#000000\;"><span style="background-image: initial\; background-position: initial\; background-size: initial\; background-repeat: initial\; background-attachment: initial\; background-origin: initial\; background-clip: initial\;"> </span></span><strong><a href="mailto:jgalow@dcrcoc.org"><span style="color:#0000FF\;">jgalow@dcrcoc.org</span></a></strong></span></span></span><br />\n<br />\n<span style="font-size:16px\;"><span style="font-family:tahoma\;"><span style="color:#000000\;"><span style="background-image: initial\; background-position: initial\; background-size: initial\; background-repeat: initial\; background-attachment: initial\; background-origin: initial\; background-clip: initial\;"><strong>Sponsored by</strong></span></span><span style="color: rgb(35\, 35\, 51)\; background-image: initial\; background-position: initial\; background-size: initial\; background-repeat: initial\; background-attachment: initial\; background-origin: initial\; background-clip: initial\;">: </span><span style="background-image: initial\; background-position: initial\; background-size: initial\; background-repeat: initial\; background-attachment: initial\; background-origin: initial\; background-clip: initial\;"><strong><a href="https://www.brandingpros.com/" target="_blank"><span style="color:#0000FF\;">Branding Pros</span></a><span style="color:#0000FF\;">&nbsp\;</span></strong><span style="color:#000000\;">and </span><strong><a href="http://www.sdglaw.com" target="_blank"><span style="color:#0000FF\;">Stenger\, Diamond &amp\; Glass\, LLP - SDG Law</span></a></strong></span></span></span><br />\n&nbsp\;
LOCATION:Zoom & Best Western Plus The Inn & Suites at the Falls 50 Red Oaks Mill Road Poughkeepsie
UID:e.2770.10484500
SEQUENCE:3
DTSTAMP:20260421T192003Z
URL:https://business.dcrcoc.org/events/details/virtual-network-present-refer-10484500
END:VEVENT

END:VCALENDAR
