BEGIN:VCALENDAR
VERSION:2.0
PRODID:-//ChamberMaster//Event Calendar 2.0//EN
METHOD:PUBLISH
X-PUBLISHED-TTL:P3D
REFRESH-INTERVAL:P3D
CALSCALE:GREGORIAN
BEGIN:VEVENT
DTSTART:20210112T170000Z
DTEND:20210112T183000Z
X-MICROSOFT-CDO-ALLDAYEVENT:FALSE
SUMMARY:VIRTUAL Network\, Present & Refer
DESCRIPTION:The Chamber presents a virtual Network\, Present & Refer event on Tuesday\, January 12th at 12 noon. Chamber members from all categories will be able to present for 2 minutes to a collection of 25 members - describing their business or organization\, and who a good referral source is for them. Attendees are limited to one per organization and one per industry. \n\n\n\nRegistration is required and will need to be approved to ensure industry exclusivity.\n\nOther similar events will be scheduled later.\n\n\n\nInterested in registering? Please email jgalow@dcrcoc.org. \n\n\n\nThank you to our sponsors: Content Studio At Martinelli Custom Publishing and Stenger\, Diamond & Glass\, LLP
X-ALT-DESC;FMTTYPE=text/html:<br />\n<span style="font-family:times new roman\;"><span style="font-size:16px\;"><span style="color:#000000\;"><span style="background-image: initial\; background-position: initial\; background-size: initial\; background-repeat: initial\; background-attachment: initial\; background-origin: initial\; background-clip: initial\;">The Chamber presents a virtual Network\, Present &amp\; Refer event on Tuesday\, January 12th at 12 noon. Chamber members from all categories will be able to present for 2 minutes to a collection of 25 members - describing their business or organization\, and who a good referral source is for them. Attendees are limited to one per organization and one per industry. </span><br />\n<br />\nRegistration is required and will need to be approved to ensure industry exclusivity.<br />\n<span style="background-image: initial\; background-position: initial\; background-size: initial\; background-repeat: initial\; background-attachment: initial\; background-origin: initial\; background-clip: initial\;">Other similar events will be scheduled later.<br />\n<br />\nInterested in registering? Please email </span></span><span style="background-image: initial\; background-position: initial\; background-size: initial\; background-repeat: initial\; background-attachment: initial\; background-origin: initial\; background-clip: initial\;"><strong><a href="mailto:jgalow@dcrcoc.org"><span style="color:#0000FF\;">jgalow@dcrcoc.org</span></a></strong></span><span style="color:#000000\;"><span style="background-image: initial\; background-position: initial\; background-size: initial\; background-repeat: initial\; background-attachment: initial\; background-origin: initial\; background-clip: initial\;">. </span></span><br />\n<br />\n<span style="color:#000000\;"><b>Thank you to our sponsors:&nbsp\;</b></span><strong><a href="http://www.contentstudiony.com/" target="_blank"><span style="color:#0000FF\;">Content Studio At Martinelli Custom Publishing</span></a><span style="color:#0000FF\;">&nbsp\;</span><span style="color:#000000\;">and&nbsp\;</span><a href="https://sdglaw.com/" target="_blank"><span style="color:#0000FF\;">Stenger\, Diamond &amp\; Glass\, LLP</span></a></strong></span></span>
LOCATION:Zoom & Content Studio At Martinelli Custom Publishing Chelsea Ridge Mall - Route 9-D\, Popula Blvd. 1st Floor (Behind Leasing Office) Wappingers Falls
UID:e.2770.10484510
SEQUENCE:3
DTSTAMP:20260421T192003Z
URL:https://business.dcrcoc.org/events/details/virtual-network-present-refer-10484510
END:VEVENT

END:VCALENDAR
