BEGIN:VCALENDAR
VERSION:2.0
PRODID:-//ChamberMaster//Event Calendar 2.0//EN
METHOD:PUBLISH
X-PUBLISHED-TTL:P3D
REFRESH-INTERVAL:P3D
CALSCALE:GREGORIAN
BEGIN:VEVENT
DTSTART:20200916T113000Z
DTEND:20200916T130000Z
X-MICROSOFT-CDO-ALLDAYEVENT:FALSE
SUMMARY:Virtual September Contact Breakfast
DESCRIPTION:The Chamber's September Breakfast will feature a candidate forum\, this one with candidates for New York State Assembly District 106 seat\, incumbent Didi Barrett and challenger\, Dean Michael.\n\n\n\nThis virtual event is open to the public and will be available to watch on Zoom.\n\nPre-registration is required\, as space is limited. \n\n \n\nTo register\, please click here.\n\n\n\nEconomic-related questions for this forum may be sent in advance for consideration to richk@dcrcoc.org\n\n\n\n\n\nSponsored By: Rose & Kiernan
X-ALT-DESC;FMTTYPE=text/html:<p><br />\n<span style="color:#000000\;"><span style="font-size:18px\;"><span style="font-family:times new roman\;">The Chamber&#39\;s September Breakfast will feature a&nbsp\;candidate forum\, this one with candidates for New York State&nbsp\;Assembly District 106 seat\,&nbsp\;</span></span><span style="font-family: &quot\;times new roman&quot\;\; font-size: 18px\;">incumbent Didi Barrett and challenger\, Dean Michael.</span></span><br />\n<br />\n<span style="color:#000000\;"><span style="font-family: &quot\;times new roman&quot\;\; background-image: initial\; background-position: initial\; background-size: initial\; background-repeat: initial\; background-attachment: initial\; background-origin: initial\; background-clip: initial\;"><span style="font-size: 13.5pt\;">This virtual event is open to the public and will be available to watch on Zoom.</span></span><br style="color: rgb(0\, 0\, 0)\; font-family: &quot\;times new roman&quot\;\;" />\n<span style="font-family: &quot\;times new roman&quot\;\; font-size: 13.5pt\;"><span style="background-image: initial\; background-position: initial\; background-size: initial\; background-repeat: initial\; background-attachment: initial\; background-origin: initial\; background-clip: initial\;">Pre-registration is required\, as space is limited.&nbsp\;</span></span></span><br style="color: rgb(0\, 0\, 0)\; font-family: &quot\;times new roman&quot\;\;" />\n<span style="color: rgb(0\, 0\, 0)\; font-family: &quot\;times new roman&quot\;\;">&nbsp\;</span><br style="color: rgb(0\, 0\, 0)\; font-family: &quot\;times new roman&quot\;\;" />\n<span style="color:#000000\;"><span style="font-family: &quot\;times new roman&quot\;\; background-image: initial\; background-position: initial\; background-size: initial\; background-repeat: initial\; background-attachment: initial\; background-origin: initial\; background-clip: initial\;"><span style="font-size: 13.5pt\;">To register\, please click</span></span></span><span style="color: rgb(0\, 0\, 0)\; font-family: &quot\;times new roman&quot\;\; background-image: initial\; background-position: initial\; background-size: initial\; background-repeat: initial\; background-attachment: initial\; background-origin: initial\; background-clip: initial\;"><span style="font-size: 13.5pt\;"> </span></span><span style="font-family: &quot\;times new roman&quot\;\; background-image: initial\; background-position: initial\; background-size: initial\; background-repeat: initial\; background-attachment: initial\; background-origin: initial\; background-clip: initial\;"><span style="font-size: 13.5pt\;"><strong><a href="https://dcrcoc-org.zoom.us/webinar/register/WN_YoHICWhkSZSShdQDovUBzg" target="_blank"><span style="color:#0000FF\;">here</span></a></strong></span></span><span style="color: rgb(0\, 0\, 0)\; font-family: &quot\;times new roman&quot\;\; background-image: initial\; background-position: initial\; background-size: initial\; background-repeat: initial\; background-attachment: initial\; background-origin: initial\; background-clip: initial\;"><span style="font-size: 13.5pt\;">.</span></span><br />\n<br />\n<span style="font-family:times new roman\;"><span style="background:white\;"><span style="color:#000000\;"><span style="font-size:13.5pt\;">Economic-related questions for this forum may be sent in advance for consideration to</span></span><span style="color:#333333\;"><span style="font-size:13.5pt\;">&nbsp\;</span></span></span><span style="font-size:18px\;"><strong style="font-variant-ligatures:normal\;font-variant-caps:normal\;orphans:2\;text-align:start\;widows:2\;-webkit-text-stroke-width:0px\;text-decoration-style:initial\;word-spacing:0px\;"><a href="mailto:richk@dcrcoc.org"><span style="color:#0000FF\;">richk@dcrcoc.org</span></a></strong></span></span><br />\n<br />\n<br />\n<span style="font-size:16px\;"><span style="font-size: 18px\;"><span style="font-family: tahoma\; color: rgb(0\, 0\, 0)\;"><span style="font-family:times new roman\;">Sponsored By:</span></span><font face="tahoma">&nbsp\;</font><a href="https://www.rkinsurance.com/" target="_blank"><span style="color:#0000FF\;"><font face="times new roman"><b>Rose &amp\; Kiernan</b></font></span></a></span></span></p>\n
LOCATION:
UID:e.2770.10481464
SEQUENCE:3
DTSTAMP:20260422T001704Z
URL:https://business.dcrcoc.org/events/details/virtual-september-contact-breakfast-10481464
END:VEVENT

END:VCALENDAR
