BEGIN:VCALENDAR
VERSION:2.0
PRODID:-//ChamberMaster//Event Calendar 2.0//EN
METHOD:PUBLISH
X-PUBLISHED-TTL:P3D
REFRESH-INTERVAL:P3D
CALSCALE:GREGORIAN
BEGIN:VEVENT
DTSTART:20190407T180000Z
DTEND:20190407T210000Z
X-MICROSOFT-CDO-ALLDAYEVENT:FALSE
SUMMARY:Vision Boarding Workshop with Master of One Coaching
DESCRIPTION:During this energetic workshop\, two professional life coaches will guide you through powerful visualization exercises and bring awareness around potential blocks. You'll be more aligned with your why and ready to achieve your goals.\nPlease visit www.vbworkshop.com to register!
X-ALT-DESC;FMTTYPE=text/html:<h4 style="text-align: justify\;">During this energetic workshop\, two professional life coaches will guide you through powerful visualization exercises and bring awareness around potential blocks. You&#39\;ll be more aligned with your why and ready to achieve your goals.</h4>\nPlease visit www.vbworkshop.com to register!
LOCATION:Soul Tribe 246 Main Street New Paltz\, NY 12561
UID:e.2770.10480567
SEQUENCE:3
DTSTAMP:20260423T081551Z
URL:https://business.dcrcoc.org/events/details/vision-boarding-workshop-with-master-of-one-coaching-10480567
END:VEVENT

END:VCALENDAR
