BEGIN:VCALENDAR
VERSION:2.0
PRODID:-//ChamberMaster//Event Calendar 2.0//EN
METHOD:PUBLISH
X-PUBLISHED-TTL:P3D
REFRESH-INTERVAL:P3D
CALSCALE:GREGORIAN
BEGIN:VEVENT
DTSTART:20171214T230000Z
DTEND:20171215T010000Z
X-MICROSOFT-CDO-ALLDAYEVENT:FALSE
SUMMARY:Visiting Artist Lecture
DESCRIPTION:The Lecture Series offers unique opportunities for local residents to learn from artists and educators around the country about their specific practices\, thought process\, and influences behind their work.
X-ALT-DESC;FMTTYPE=text/html:The Lecture Series offers unique opportunities for local residents to learn from artists and educators around the country about their specific practices\, thought process\, and influences behind their work.
LOCATION:The Wassaic Project\, 37 Furnace Bank Road 12592\, Wassaic\, New York
UID:e.2770.10476640
SEQUENCE:3
DTSTAMP:20260426T004901Z
URL:https://business.dcrcoc.org/events/details/visiting-artist-lecture-12-14-2017-10476640
END:VEVENT

END:VCALENDAR
