BEGIN:VCALENDAR
VERSION:2.0
PRODID:-//ChamberMaster//Event Calendar 2.0//EN
METHOD:PUBLISH
X-PUBLISHED-TTL:P3D
REFRESH-INTERVAL:P3D
CALSCALE:GREGORIAN
BEGIN:VEVENT
DTSTART:20180627T220000Z
DTEND:20180627T230000Z
X-MICROSOFT-CDO-ALLDAYEVENT:FALSE
SUMMARY:Visiting Artist Lecture with Rosario Güiraldes
DESCRIPTION:Rosario G iraldes is Assistant Curator and Co-Director of the Open Sessions artist program at The Drawing Center. She has organized curatorial projects and public programs at the Barcelona Museum of Contemporary Art (MACBA)\; University Museum of Contemporary Art (MUAC)\, Mexico City\; Hessel Museum\; Judd Foundation\; International Studio & Curatorial Program\; Consulate General of Argentina\, all New York\; Fundaci n Proa\; and Pe a\, both Buenos Aires. Her most recent project Forensic Architecture: Towards an Investigative Aesthetics was presented in different versions at the Barcelona Museum of Contemporary Art (2017)\, and at the University Museum of Contemporary Art\, Mexico City (2017-2018). G iraldes has edited numerous publications\, such as Forensic Architecture: Hacia una est tica investigativa\; Staging\; Pioneer Works Journal\; The Present is the Form of All Life: The Time Capsules of Ant Farm and LST\; aCCseSsions\; Compost\; and Correspondencia. At Fundacion Proa\, she also organized Forensis(2015) with Anselm Franke and Eyal Weizman. G iraldes holds a B.Arch from the Universidad de Buenos Aires and an MA in Curatorial Studies from the Center for Curatorial Studies\, Bard College.
X-ALT-DESC;FMTTYPE=text/html:Rosario G&uuml\;iraldes is Assistant Curator and Co-Director of the Open Sessions artist program at The Drawing Center. She has organized curatorial projects and public programs at the Barcelona Museum of Contemporary Art (MACBA)\; University Museum of Contemporary Art (MUAC)\, Mexico City\; Hessel Museum\; Judd Foundation\; International Studio &amp\; Curatorial Program\; Consulate General of Argentina\, all New York\; Fundaci&oacute\;n Proa\; and Pe&ntilde\;a\, both Buenos Aires. Her most recent project Forensic Architecture: Towards an Investigative Aesthetics was presented in different versions at the Barcelona Museum of Contemporary Art (2017)\, and at the University Museum of Contemporary Art\, Mexico City (2017-2018). G&uuml\;iraldes has edited numerous publications\, such as Forensic Architecture: Hacia una est&eacute\;tica investigativa\; Staging\; Pioneer Works Journal\; The Present is the Form of All Life: The Time Capsules of Ant Farm and LST\; aCCseSsions\; Compost\; and Correspondencia. At Fundacion Proa\, she also organized Forensis(2015) with Anselm Franke and Eyal Weizman. G&uuml\;iraldes holds a B.Arch from the Universidad de Buenos Aires and an MA in Curatorial Studies from the Center for Curatorial Studies\, Bard College.
LOCATION:The lecture is going to be held in the Luther Barn Auction Ring at 19 Furnace Bank Rd. Wassaic\, NY 12592.
UID:e.2770.10479280
SEQUENCE:3
DTSTAMP:20260425T170831Z
URL:https://business.dcrcoc.org/events/details/visiting-artist-lecture-with-rosario-g&#252;iraldes-10479280
END:VEVENT

END:VCALENDAR
