BEGIN:VCALENDAR
VERSION:2.0
PRODID:-//ChamberMaster//Event Calendar 2.0//EN
METHOD:PUBLISH
X-PUBLISHED-TTL:P3D
REFRESH-INTERVAL:P3D
CALSCALE:GREGORIAN
BEGIN:VEVENT
DTSTART:20180224T220000Z
DTEND:20180225T010000Z
X-MICROSOFT-CDO-ALLDAYEVENT:FALSE
SUMMARY:Visiting Artist Lecture with Taraka Larson
DESCRIPTION:The visiting artist lecture series offers a unique opportunity for local residents to learn from artis and educators around the country about their practice\, thought processes and influences behind their work. The lecture will be held by Taraka Larson\, visual artist and band member of Prince Rama. Taraka has grown up in ashrams\; lived on black metal communes\; worked for utopian architects\; written manifestos\; delivered lectures from pools of fake blood\; conducted group exorcism disguised as VHS workouts\; designed a whole life of byzantine extreme sports wear\; and toured the world extensively with her band\, Prince Rama.
X-ALT-DESC;FMTTYPE=text/html:The visiting artist lecture series offers a unique opportunity for local residents to learn from artis and educators around the country about their practice\, thought processes and influences behind their work. The lecture will be held by Taraka Larson\, visual artist and band member of Prince Rama. Taraka has grown up in ashrams\; lived on black metal communes\; worked for utopian architects\; written manifestos\; delivered lectures from pools of fake blood\; conducted group exorcism disguised as VHS workouts\; designed a whole life of byzantine extreme sports wear\; and toured the world extensively with her band\, Prince Rama.
LOCATION:Wassaic Project\, 37 Furnace Bank Road\, Wassaic\, NY 12592
UID:e.2770.10476777
SEQUENCE:3
DTSTAMP:20260425T222036Z
URL:https://business.dcrcoc.org/events/details/visiting-artist-lecture-with-taraka-larson-10476777
END:VEVENT

END:VCALENDAR
