BEGIN:VCALENDAR
VERSION:2.0
PRODID:-//ChamberMaster//Event Calendar 2.0//EN
METHOD:PUBLISH
X-PUBLISHED-TTL:P3D
REFRESH-INTERVAL:P3D
CALSCALE:GREGORIAN
BEGIN:VEVENT
DTSTART:20190302T150000Z
DTEND:20190302T190000Z
X-MICROSOFT-CDO-ALLDAYEVENT:FALSE
SUMMARY:Volunteer Registration - St. Patrick's Parade Fun Run
DESCRIPTION:Volunteers are needed to help support the 1st Annual Fun Run on March 2 in cooperation with the Dutchess County St. Patrick's Parade Committee and the Village of Wappingers Falls.  Volunteers will help with registration\, information\, route safety\, course support and post-run hospitality tent.\n\n\n\nThe Fun Run will be a festive\, fast and family run immediately before the 24th Annual Dutchess County Saint Patrick's Parade in the Village of Wappingers Falls. Help us award our prizes at the end of the race!\n\n\n\nThe Fun Run will follow the full parade route and cover a short\, but hilly 1.4 mile route through the crowd lined streets of the Village.  If you have never been to the parade\, it features great pipe and drum bands\, floats\, music and much more!\n\n\n\nThis event is organized by the Health & Wellness Committee of the DC Regional Chamber of Commerce in partnership with Fleet Feet of Poughkeepsie\, DC Tourism and is sponsored by Health Quest. A portion of the proceeds will benefit the Dutchess County St. Patrick's Parade Committee Scholarship Fund and The Chamber Foundation\, Inc.
X-ALT-DESC;FMTTYPE=text/html:Volunteers are needed to help support the 1st Annual Fun Run on March 2 in cooperation with the Dutchess County St. Patrick&#39\;s Parade Committee and the Village of Wappingers Falls.&nbsp\; Volunteers will help with registration\, information\, route safety\, course support and post-run hospitality tent.<br />\n<br />\nThe Fun Run will be a festive\, fast and family run immediately before the 24th Annual Dutchess County Saint Patrick&#39\;s Parade in the Village of Wappingers Falls. Help us award our prizes at the end of the race!<br />\n<br />\nThe Fun Run will follow the full parade route and cover a short\, but hilly 1.4 mile route through the crowd lined streets of the Village.&nbsp\; If you have never been to the parade\, it features great pipe and drum bands\, floats\, music and much more!<br />\n<br />\nThis event is organized by the Health &amp\; Wellness Committee of the DC Regional Chamber of Commerce in partnership with Fleet Feet of Poughkeepsie\, DC Tourism and is sponsored by Health Quest.&nbsp\;A portion of the proceeds will benefit the Dutchess County St. Patrick&#39\;s Parade Committee Scholarship Fund and The Chamber Foundation\, Inc.
LOCATION:Village of Wappingers Falls\, NY
UID:e.2770.10480459
SEQUENCE:3
DTSTAMP:20260423T082943Z
URL:https://business.dcrcoc.org/events/details/volunteer-registration-st-patrick-s-parade-fun-run-10480459
END:VEVENT

END:VCALENDAR
