BEGIN:VCALENDAR
VERSION:2.0
PRODID:-//ChamberMaster//Event Calendar 2.0//EN
METHOD:PUBLISH
X-PUBLISHED-TTL:P3D
REFRESH-INTERVAL:P3D
CALSCALE:GREGORIAN
BEGIN:VEVENT
DTSTART:20171014T130000Z
DTEND:20171014T160000Z
X-MICROSOFT-CDO-ALLDAYEVENT:FALSE
SUMMARY:Walk A Mile in Her Shoes
DESCRIPTION:Each year\, an ever-increasing number of men\, women and their families are joining Walk a Mile in Her Shoes : The International Men's March to Stop Rape\, Sexual Assault & Gender Violence. A Walk a Mile in Her Shoes  Event is a unique opportunity for to raise awareness about the serious causes\, effects and remediations to gender violence and sexual assault . There is an old saying: "You can't really understand another person's experience until you've walked a mile in their shoes." Walk a Mile in Her Shoes  asks men to literally walk in women's shoes. We invite everyone to attend this family friendly event and encourage (but not require) the guys to put on a pair of women's shoes.
X-ALT-DESC;FMTTYPE=text/html:Each year\, an ever-increasing number of men\, women and their families are joining Walk a Mile in Her Shoes&reg\;: The International Men&#39\;s March to Stop Rape\, Sexual Assault &amp\; Gender Violence. A Walk a Mile in Her Shoes&reg\; Event is a unique opportunity for to raise awareness about the serious causes\, effects and remediations to gender violence and sexual assault . There is an old saying: &quot\;You can&#39\;t really understand another person&#39\;s experience until you&#39\;ve walked a mile in their shoes.&quot\; Walk a Mile in Her Shoes&reg\; asks men to literally walk in women&rsquo\;s shoes. We invite everyone to attend this family friendly event and encourage (but not require) the guys to put on a pair of women&rsquo\;s shoes.
LOCATION:All Sport Health & Fitness\, 17 Old Main St\, Fishkill\, NY
UID:e.2770.10475795
SEQUENCE:3
DTSTAMP:20260426T033443Z
URL:https://business.dcrcoc.org/events/details/walk-a-mile-in-her-shoes-10475795
END:VEVENT

END:VCALENDAR
