BEGIN:VCALENDAR
VERSION:2.0
PRODID:-//ChamberMaster//Event Calendar 2.0//EN
METHOD:PUBLISH
X-PUBLISHED-TTL:P3D
REFRESH-INTERVAL:P3D
CALSCALE:GREGORIAN
BEGIN:VEVENT
DTSTART:20200915T220000Z
DTEND:20200915T233000Z
X-MICROSOFT-CDO-ALLDAYEVENT:FALSE
SUMMARY:Walk or Run for Fitness or Fun - Kickoff
DESCRIPTION:The Chamber's Popular "Learn to Run" Program is back\, now in a more flexible format to offer everyone the chance to enjoy learning about the great sport of running or to engage in a regular walking program for fitness\n\n \n\nThe Health & Wellness Committee will re-launch its popular program for 2020. The program will be offered for four weeks every Tuesday night\, ending on Tuesday October 6.  \n\n \n\nThis program is designed to assist and to encourage individuals interested in the sport of running to learn safe and effective running habits with the goal of gradually improving distance and pace. Participants will have the opportunity to learn proper running form and safety tips\, and practice running in a safe setting. The program will also officially welcome anyone who would like to join the program to walk\, instead of run. Bowdoin Park offers wonderful trails and walking paths that will offer a rewarding walk and river views.  \n\n \n\nSafety protocols will be in place to ensure all attendees maintain proper physical distancing. Each session will be facilitated by members of the Health & Wellness Committee and is made possible by the generosity of program sponsors.\n\n\n\nSponsored By: Nuvance Health\, Fortress Financial Advisory\, and Mid-Hudson Valley Federal Credit Union.
X-ALT-DESC;FMTTYPE=text/html:<br />\n<span style="color:black\;"><span style="font-family:avenirnext-medium\;"><span style="font-size:16px\;"><span style="font-family:times new roman\;">The Chamber&rsquo\;s Popular &ldquo\;Learn to Run&rdquo\; Program is back\, now in a more flexible format to offer everyone the chance to enjoy learning about the great sport of running or to engage in a regular walking program for fitness</span></span></span></span><br />\n<span style="font-size:16px\;"><span style="font-family:times new roman\;">&nbsp\;<br />\n<span style="color:black\;">The Health &amp\; Wellness Committee will re-launch its popular program for 2020. The program will be offered <strong>for four weeks every Tuesday night\, ending on Tuesday October 6</strong>.&nbsp\;&nbsp\;</span><br />\n&nbsp\;<br />\n<span style="color:black\;">This program is designed to assist and to encourage individuals interested in the sport of running to learn safe and effective running habits with the goal of gradually improving distance and pace. Participants will have the opportunity to learn proper running form and safety tips\, and practice running in a safe setting. The program will also officially welcome anyone who would like to join the program to walk\, instead of run. Bowdoin Park offers wonderful trails and walking paths that will offer a rewarding walk and river views.&nbsp\; </span><br />\n&nbsp\;<br />\n<span style="color:black\;">Safety protocols will be in place to ensure all attendees maintain proper physical distancing. Each session will be facilitated by members of the Health &amp\; Wellness Committee and is made possible by the generosity of program sponsors.</span><br />\n<br />\n<span style="color:#000000\;"><strong>Sponsored By</strong></span><font color="#000000">:&nbsp\;</font><a href="https://www.nuvancehealth.org/" style="color: rgb(0\, 0\, 255)\; font-weight: bold\;" target="_blank">Nuvance Health</a><span style="color:#000000\;">\,</span><span style="color:black\;"> </span><strong><a href="http://concierge.lifemark.com/WilliamFrancis" target="_blank"><span style="color:#0000FF\;">Fortress Financial Advisory</span></a></strong><span style="color:#000000\;">\,</span><span style="color:black\;"> and </span><strong><a href="https://www.mhvfcu.com/?gclid=EAIaIQobChMIvOzOwJm06wIVConICh0QwgWMEAAYASAAEgJLO_D_BwE" target="_blank"><span style="color:#0000FF\;">Mid-Hudson Valley Federal Credit Union</span></a></strong><span style="color:black\;">.&nbsp\;</span></span></span>
LOCATION:Bowdoin Park 85 Sheafe Road Wappingers Falls
UID:e.2770.10484441
SEQUENCE:3
DTSTAMP:20260422T002026Z
URL:https://business.dcrcoc.org/events/details/walk-or-run-for-fitness-or-fun-kickoff-10484441
END:VEVENT

END:VCALENDAR
