BEGIN:VCALENDAR
VERSION:2.0
PRODID:-//ChamberMaster//Event Calendar 2.0//EN
METHOD:PUBLISH
X-PUBLISHED-TTL:P3D
REFRESH-INTERVAL:P3D
CALSCALE:GREGORIAN
BEGIN:VEVENT
DTSTART:20190402T210000Z
DTEND:20190402T230000Z
X-MICROSOFT-CDO-ALLDAYEVENT:FALSE
SUMMARY:Walk to End Alzheimer's Volunteer Kickoff Party
DESCRIPTION:Join us for our Dutchess/Ulster Volunteer Kickoff Parties to learn how you can get involved with the Walk to End Alzheimer's  Planning Committee. There are opportunities to suit all interests and skill sets   and we have a lot of fun while doing rewarding work to advance the cause!
X-ALT-DESC;FMTTYPE=text/html:Join us for our Dutchess/Ulster Volunteer Kickoff Parties to learn how you can get involved with the Walk to End Alzheimer&rsquo\;s&reg\; Planning Committee. There are opportunities to suit all interests and skill sets &mdash\; and we have a lot of fun while doing rewarding work to advance the cause!
LOCATION:Alzheimer's Association Poughkeepsie Office 2649 South Road\, Suite 101 Poughkeepsie\, NY 12601
UID:e.2770.10480584
SEQUENCE:3
DTSTAMP:20260423T064946Z
URL:https://business.dcrcoc.org/events/details/walk-to-end-alzheimer-s-volunteer-kickoff-party-04-02-2019-10480584
END:VEVENT

END:VCALENDAR
