BEGIN:VCALENDAR
VERSION:2.0
PRODID:-//ChamberMaster//Event Calendar 2.0//EN
METHOD:PUBLISH
X-PUBLISHED-TTL:P3D
REFRESH-INTERVAL:P3D
CALSCALE:GREGORIAN
BEGIN:VEVENT
DTSTART:20180804T160000Z
DTEND:20180805T034500Z
X-MICROSOFT-CDO-ALLDAYEVENT:FALSE
SUMMARY:Wassaic Project 2018 Summer Festival
DESCRIPTION:We're excited to host our 10th annual Wassaic Project Summer Festival. This year's lineup features the same high-quality musicians\, artists\, dancers\, and filmmakers as we've hosted in the past along with new elements for this year's Festival. Check out https://www.wassaicproject.org/events/2018-summer-festival for more info about the Festival\, including the full roster of 2018 performers and events! Free to attend\, register ahead of time to cut the line!
X-ALT-DESC;FMTTYPE=text/html:We&#39\;re excited to host our 10th annual Wassaic Project Summer Festival. This year&#39\;s lineup features the same high-quality musicians\, artists\, dancers\, and filmmakers as we&#39\;ve hosted in the past along with new elements for this year&#39\;s Festival. Check out https://www.wassaicproject.org/events/2018-summer-festival for more info about the Festival\, including the full roster of 2018 performers and events! Free to attend\, register ahead of time to cut the line!
LOCATION:Luther Barn 17 Furnace Bank Rd. Wassaic\, NY 12592
UID:e.2770.10479285
SEQUENCE:3
DTSTAMP:20260425T144356Z
URL:https://business.dcrcoc.org/events/details/wassaic-project-2018-summer-festival-10479285
END:VEVENT

END:VCALENDAR
