BEGIN:VCALENDAR
VERSION:2.0
PRODID:-//ChamberMaster//Event Calendar 2.0//EN
METHOD:PUBLISH
X-PUBLISHED-TTL:P3D
REFRESH-INTERVAL:P3D
CALSCALE:GREGORIAN
BEGIN:VEVENT
DTSTART:20180707T143000Z
DTEND:20180728T163000Z
X-MICROSOFT-CDO-ALLDAYEVENT:FALSE
SUMMARY:Wassaic Project Art Scouts
DESCRIPTION:A 4-session artist-led program every Saturday in July where kids make art inspired by the Wassaic Project Summer Exhibition. For students entering into grades K-6. This artist-led program includes interactive tours through the Wassaic Project Summer Exhibition and hands-on creative activities inspired by works on view. Kids look\, discuss\, and explore in the Maxon Mill galleries through scavenger hunts\, observational drawing\, and gallery conversations. Artistic projects are developed in relation to the works on display. The program culminates in a mini-exhibition and reception for participating families.
X-ALT-DESC;FMTTYPE=text/html:A 4-session artist-led program every Saturday in July where kids make art inspired by the Wassaic Project Summer Exhibition. For students entering into grades K-6. This artist-led program includes interactive tours through the Wassaic Project Summer Exhibition and hands-on creative activities inspired by works on view. Kids look\, discuss\, and explore in the Maxon Mill galleries through scavenger hunts\, observational drawing\, and gallery conversations. Artistic projects are developed in relation to the works on display. The program culminates in a mini-exhibition and reception for participating families.
LOCATION:The Wassaic Project 37 Furnace Bank Road Wassaic\, NY 12592
UID:e.2770.10479281
SEQUENCE:3
DTSTAMP:20260425T154914Z
URL:https://business.dcrcoc.org/events/details/wassaic-project-art-scouts-10479281
END:VEVENT

END:VCALENDAR
