BEGIN:VCALENDAR
VERSION:2.0
PRODID:-//ChamberMaster//Event Calendar 2.0//EN
METHOD:PUBLISH
X-PUBLISHED-TTL:P3D
REFRESH-INTERVAL:P3D
CALSCALE:GREGORIAN
BEGIN:VEVENT
DTSTART:20180127T210000Z
DTEND:20180127T230000Z
X-MICROSOFT-CDO-ALLDAYEVENT:FALSE
SUMMARY:Wassaic Project Open Studios
DESCRIPTION:Open studios offer a once a month opportunity to learn about the artists in residence at the Wassaic Project. Visitors will be able to learn about the resident's artwork\, see what they have been creating and ask questions about their craft. It's a unique chance to take a look behind the scenes into their process before they leave Wassaic for their next project!
X-ALT-DESC;FMTTYPE=text/html:Open studios offer a once a month opportunity to learn about the artists in residence at the Wassaic Project. Visitors will be able to learn about the resident&rsquo\;s artwork\, see what they have been creating and ask questions about their craft. It&rsquo\;s a unique chance to take a look behind the scenes into their process before they leave Wassaic for their next project!
LOCATION:37 Furnace Bank Road\, Wassaic\, NY\, 12592
UID:e.2770.10476656
SEQUENCE:3
DTSTAMP:20260425T232142Z
URL:https://business.dcrcoc.org/events/details/wassaic-project-open-studios-10476656
END:VEVENT

END:VCALENDAR
