BEGIN:VCALENDAR
VERSION:2.0
PRODID:-//ChamberMaster//Event Calendar 2.0//EN
METHOD:PUBLISH
X-PUBLISHED-TTL:P3D
REFRESH-INTERVAL:P3D
CALSCALE:GREGORIAN
BEGIN:VEVENT
DTSTART:20180118T210000Z
DTEND:20180118T223000Z
X-MICROSOFT-CDO-ALLDAYEVENT:FALSE
SUMMARY:Wassaic Project's Art and Children's Books
DESCRIPTION:A new series of after school workshops made for guardian and child collaborations which connects children books with art activities. Each week\, a guardian will read a provided children's book to the group. Then\, guardians and their children will team up to work together on art projects inspired by the book.
X-ALT-DESC;FMTTYPE=text/html:A new series of after school workshops made for guardian and child collaborations which connects children books with art activities. Each week\, a guardian will read a provided children&rsquo\;s book to the group. Then\, guardians and their children will team up to work together on art projects inspired by the book.
LOCATION:37 Furnace Bank Road\, Wassaic\, NY\, 12592
UID:e.2770.10476654
SEQUENCE:3
DTSTAMP:20260425T232407Z
URL:https://business.dcrcoc.org/events/details/wassaic-project-s-art-and-children-s-books-10476654
END:VEVENT

END:VCALENDAR
