BEGIN:VCALENDAR
VERSION:2.0
PRODID:-//ChamberMaster//Event Calendar 2.0//EN
METHOD:PUBLISH
X-PUBLISHED-TTL:P3D
REFRESH-INTERVAL:P3D
CALSCALE:GREGORIAN
BEGIN:VEVENT
DTSTART:20180109T230000Z
DTEND:20180110T003000Z
X-MICROSOFT-CDO-ALLDAYEVENT:FALSE
SUMMARY:Wassaic Project's Fiber Arts Skill Share
DESCRIPTION:The Wassaic Project is introducing a new weekly workshop for fiber arts enthusiasts looking to share their skills and learn new skills with others. Possible projects include felting embroidery\, leatherworking\, making clothes\, bag design\, etc. All participants are encouraged to share their skills with other members. This is an exciting opportunity for fiber arts enthusiasts of different ages to come together and take part in intergenerational learning.
X-ALT-DESC;FMTTYPE=text/html:The Wassaic Project is introducing a new weekly workshop for fiber arts enthusiasts looking to share their skills and learn new skills with others. Possible projects include felting embroidery\, leatherworking\, making clothes\, bag design\, etc. All participants are encouraged to share their skills with other members. This is an exciting opportunity for fiber arts enthusiasts of different ages to come together and take part in intergenerational learning.
LOCATION:37 Furnace Bank Road\, Wassaic\, NY\, 12592
UID:e.2770.10476651
SEQUENCE:3
DTSTAMP:20260425T232309Z
URL:https://business.dcrcoc.org/events/details/wassaic-project-s-fiber-arts-skill-share-10476651
END:VEVENT

END:VCALENDAR
