BEGIN:VCALENDAR
VERSION:2.0
PRODID:-//ChamberMaster//Event Calendar 2.0//EN
METHOD:PUBLISH
X-PUBLISHED-TTL:P3D
REFRESH-INTERVAL:P3D
CALSCALE:GREGORIAN
BEGIN:VEVENT
DTSTART:20180127T210000Z
DTEND:20180128T020000Z
X-MICROSOFT-CDO-ALLDAYEVENT:FALSE
SUMMARY:Wassaic Project's Mill Warming
DESCRIPTION:Celebrate at the Wassaic Project's winter festival and the opening of their new winter exhibition\, What We Don't Realize When We See Things\, at the Maxon Mills on Saturday\, January 27\, from 4-7PM. The exhibition\, curated by Tara Foley\, Will Hutnick\, and Jordan Hutton\, is "a group exhibition composed of painting\, drawing\, video\, sculpture\, and performance that addresses everyday life that shapes who we are and how we relate to others."
X-ALT-DESC;FMTTYPE=text/html:Celebrate at the Wassaic Project&rsquo\;s winter festival and the opening of their new winter exhibition\, What We Don&rsquo\;t Realize When We See Things\, at the Maxon Mills on Saturday\, January 27\, from 4-7PM. The exhibition\, curated by Tara Foley\, Will Hutnick\, and Jordan Hutton\, is &ldquo\;a group exhibition composed of painting\, drawing\, video\, sculpture\, and performance that addresses everyday life that shapes who we are and how we relate to others.&rdquo\;
LOCATION:37 Furnace Bank Road\, Wassaic\, NY 12592
UID:e.2770.10476650
SEQUENCE:3
DTSTAMP:20260425T232147Z
URL:https://business.dcrcoc.org/events/details/wassaic-project-s-mill-warming-10476650
END:VEVENT

END:VCALENDAR
