BEGIN:VCALENDAR
VERSION:2.0
PRODID:-//ChamberMaster//Event Calendar 2.0//EN
METHOD:PUBLISH
X-PUBLISHED-TTL:P3D
REFRESH-INTERVAL:P3D
CALSCALE:GREGORIAN
BEGIN:VEVENT
DTSTART:20171220T230000Z
DTEND:20171221T010000Z
X-MICROSOFT-CDO-ALLDAYEVENT:FALSE
SUMMARY:Wassaic Project's Open Studios
DESCRIPTION:Open studios offer a once a month opportunity to learn about the artists in residence at the Wassaic Project. Visitors will be able to learn about the resident's artwork\, see what they have been creating and ask questions about their craft. It's a unique chance to take a look behind the scenes into their process before they leave Wassaic for their next project!
X-ALT-DESC;FMTTYPE=text/html:Open studios offer a once a month opportunity to learn about the artists in residence at the Wassaic Project. Visitors will be able to learn about the resident&rsquo\;s artwork\, see what they have been creating and ask questions about their craft. It&rsquo\;s a unique chance to take a look behind the scenes into their process before they leave Wassaic for their next project!
LOCATION:37 Furnace Bank Road Wassaic\, NY\, 12594
UID:e.2770.10476649
SEQUENCE:3
DTSTAMP:20260426T004742Z
URL:https://business.dcrcoc.org/events/details/wassaic-project-s-open-studios-10476649
END:VEVENT

END:VCALENDAR
