BEGIN:VCALENDAR
VERSION:2.0
PRODID:-//ChamberMaster//Event Calendar 2.0//EN
METHOD:PUBLISH
X-PUBLISHED-TTL:P3D
REFRESH-INTERVAL:P3D
CALSCALE:GREGORIAN
BEGIN:VEVENT
DTSTART:20180814T130000Z
DTEND:20180817T190000Z
X-MICROSOFT-CDO-ALLDAYEVENT:FALSE
SUMMARY:Wassaic Project Teen Screenprint Camp
DESCRIPTION:In this five-day workshop\, students ages 13-18 will not only gain a technical understanding of screenprint\, but also be introduced to its practical\, professional\, and artistic applications by the Wassaic Project Print Fellow instructor.
X-ALT-DESC;FMTTYPE=text/html:In this five-day workshop\, students ages 13-18 will not only gain a technical understanding of screenprint\, but also be introduced to its practical\, professional\, and artistic applications by the Wassaic Project Print Fellow instructor.
LOCATION:The Wassaic Project 37 Furnace Bank Road Wassaic\, NY 12592
UID:e.2770.10479286
SEQUENCE:3
DTSTAMP:20260425T144437Z
URL:https://business.dcrcoc.org/events/details/wassaic-project-teen-screenprint-camp-10479286
END:VEVENT

END:VCALENDAR
