BEGIN:VCALENDAR
VERSION:2.0
PRODID:-//ChamberMaster//Event Calendar 2.0//EN
METHOD:PUBLISH
X-PUBLISHED-TTL:P3D
REFRESH-INTERVAL:P3D
CALSCALE:GREGORIAN
BEGIN:VEVENT
DTSTART:20200624T210000Z
DTEND:20200624T223000Z
X-MICROSOFT-CDO-ALLDAYEVENT:FALSE
SUMMARY:Webinar on PPP Guidance and Forgiveness\, and Business After Hours
DESCRIPTION:A panel of representatives from Chase Bank\, RBT CPAs\, and the Small Business Development Center will be discussing PPP loans\, guidance and forgiveness. Stick around for virtual networking opportunities at this event\, coming from the Old Rhinebeck Aerodrome\, as originally scheduled.\n\n\n\nPanelists:\n\n\n\nMyriam Bouchard\, Small Business Development Center\n\nChris Levy\, Pursuit Lending\n\nMike Turturro\, RBT\, CPAs\n\n\n\nTo Register\, Please Click Here\n\n\n\nThank you to sponsors: Central Hudson Gas & Electric Corporation\, Chase Bank\, and RBT CPAs
X-ALT-DESC;FMTTYPE=text/html:<p><br />\n<span style="font-size:18px\;"><span style="font-family:times new roman\;"><span style="color:#232333\;">A panel of representatives from Chase Bank\, RBT CPAs\, and the Small Business Development Center will be discussing PPP loans\, guidance and forgiveness. Stick around for virtual networking opportunities at this event\, coming from the Old Rhinebeck Aerodrome\, as originally scheduled.</span></span></span><br />\n<br />\n<span style="font-family:times new roman\;"><font color="#000000"><span style="font-size: 21.3333px\;"><em><strong>Panelists</strong></em>:</span></font><br />\n<br />\n<span style="color:#000000\;"><strong><span style="font-size:16.0pt\;">Myriam </span></strong><span style="background:white\;"><span style="font-size:16.0pt\;"><strong>Bouchard</strong>\, Small Business Development Center</span></span><br />\n<span style="background:white\;"><span style="font-size:16.0pt\;"><strong>Chris Levy</strong>\, Pursuit Lending</span></span><br />\n<span style="background:white\;"><span style="font-size:16.0pt\;"><strong>Mike Turturro</strong>\, RBT\, CPAs</span></span></span><br />\n<br />\n<span style="font-size:20px\;"><strong>To Register\, Please Click</strong><strong style="font-family: &quot\;times new roman&quot\;\; font-size: 16px\;">&nbsp\;<span style="font-size:22px\;"><a href="https://us02web.zoom.us/webinar/register/WN_AJPv9HzHRTSDVdfMksvhFw" target="_blank"><span style="color: rgb(0\, 0\, 255)\;">Here</span></a></span></strong><br />\n<br />\n<span style="color: rgb(35\, 35\, 51)\;"><strong>Thank you to sponsors</strong>:&nbsp\;</span><a href="https://www.cenhud.com/" style="color: rgb(0\, 0\, 255)\; font-weight: bold\;" target="_blank">Central Hudson Gas &amp\; Electric Corporation</a><span style="color:#000000\;"><strong>\,</strong></span>&nbsp\;<strong><a href="https://www.chase.com/" style="color: rgb(0\, 0\, 255)\;" target="_blank">Chase Bank</a>\,&nbsp\;and&nbsp\;<a href="https://www.rbtcpas.com/?gclid=EAIaIQobChMIqLW259P86QIVM4VaBR3CEAY-EAAYASAAEgJoa_D_BwE" target="_blank"><span style="color:#0000CD\;">RBT CPAs</span></a></strong></span></span></p>\n
LOCATION:
UID:e.2770.10481450
SEQUENCE:3
DTSTAMP:20260422T045124Z
URL:https://business.dcrcoc.org/events/details/webinar-on-ppp-guidance-and-forgiveness-and-business-after-hours-10481450
END:VEVENT

END:VCALENDAR
