BEGIN:VCALENDAR
VERSION:2.0
PRODID:-//ChamberMaster//Event Calendar 2.0//EN
METHOD:PUBLISH
X-PUBLISHED-TTL:P3D
REFRESH-INTERVAL:P3D
CALSCALE:GREGORIAN
BEGIN:VEVENT
DTSTART:20180804T160000Z
DTEND:20180804T200000Z
X-MICROSOFT-CDO-ALLDAYEVENT:FALSE
SUMMARY:Wellness EXPO+
DESCRIPTION:Part of the O+ Poughkeepsie festival\, Wellness EXPO+ showcases the best in health and allied professional services from a variety of disciplines promoting whole-person wellness and well-being. Featuring meditation\, yoga\, gong sound healing\, and musical performances. The Wellness EXPO+ is sponsored by MidHudson Regional Hospital. Health-related organizations are invited to market their services. Please email Heather.McGorman@wmchealth.org or call 483-5041 to learn more.
X-ALT-DESC;FMTTYPE=text/html:Part of the O+ Poughkeepsie festival\, Wellness EXPO+ showcases the best in health and allied professional services from a variety of disciplines promoting whole-person wellness and well-being. Featuring meditation\, yoga\, gong sound healing\, and musical performances. The Wellness EXPO+ is sponsored by MidHudson Regional Hospital. Health-related organizations are invited to market their services. Please email Heather.McGorman@wmchealth.org or call 483-5041 to learn more.
LOCATION:Mural Square Park\, 288-290 Main Street\, Poughkeepsie.
UID:e.2770.10479340
SEQUENCE:3
DTSTAMP:20260425T143805Z
URL:https://business.dcrcoc.org/events/details/wellness-expo-10479340
END:VEVENT

END:VCALENDAR
