BEGIN:VCALENDAR
VERSION:2.0
PRODID:-//ChamberMaster//Event Calendar 2.0//EN
METHOD:PUBLISH
X-PUBLISHED-TTL:P3D
REFRESH-INTERVAL:P3D
CALSCALE:GREGORIAN
BEGIN:VEVENT
DTSTART:20171213T123000Z
DTEND:20171213T201500Z
X-MICROSOFT-CDO-ALLDAYEVENT:FALSE
SUMMARY:Wellness & Recovery Conference
DESCRIPTION:A day of presentations around managed care\, wellness\, recovery and you. There will be keynote speakers\, panel presentations and workshops. Who should attend: Mental Health Professionals\, individuals receiving mental health services\, Peer Specialists/Professionals\, Executive Level staff\, Case Managers and Care Coordinators.
X-ALT-DESC;FMTTYPE=text/html:A day of presentations around managed care\, wellness\, recovery and you. There will be keynote speakers\, panel presentations and workshops. Who should attend: Mental Health Professionals\, individuals receiving mental health services\, Peer Specialists/Professionals\, Executive Level staff\, Case Managers and Care Coordinators.
LOCATION:Anthony's Pier 9\, New Windsor\, NY
UID:e.2770.10476645
SEQUENCE:3
DTSTAMP:20260426T020539Z
URL:https://business.dcrcoc.org/events/details/wellness-recovery-conference-10476645
END:VEVENT

END:VCALENDAR
