BEGIN:VCALENDAR
VERSION:2.0
PRODID:-//ChamberMaster//Event Calendar 2.0//EN
METHOD:PUBLISH
X-PUBLISHED-TTL:P3D
REFRESH-INTERVAL:P3D
CALSCALE:GREGORIAN
BEGIN:VEVENT
DTSTART:20180405T220000Z
DTEND:20180406T010000Z
X-MICROSOFT-CDO-ALLDAYEVENT:FALSE
SUMMARY:Westchester Home Design Awards
DESCRIPTION:Join the celebration as we announce the winners of Westchester Home's annual Design Awards live\, on-stage with an elegant cocktail reception and awards ceremony.
X-ALT-DESC;FMTTYPE=text/html:Join the celebration as we announce the winners of Westchester Home&#39\;s annual Design Awards live\, on-stage with an elegant cocktail reception and awards ceremony.
LOCATION:Performing Arts Center at Purchase College
UID:e.2770.10476627
SEQUENCE:3
DTSTAMP:20260425T194912Z
URL:https://business.dcrcoc.org/events/details/westchester-home-design-awards-10476627
END:VEVENT

END:VCALENDAR
