BEGIN:VCALENDAR
VERSION:2.0
PRODID:-//ChamberMaster//Event Calendar 2.0//EN
METHOD:PUBLISH
X-PUBLISHED-TTL:P3D
REFRESH-INTERVAL:P3D
CALSCALE:GREGORIAN
BEGIN:VEVENT
DTSTART:20180225T170000Z
DTEND:20180225T200000Z
X-MICROSOFT-CDO-ALLDAYEVENT:FALSE
SUMMARY:Westchester/Hudson Valley Weddings’ Annual Unveiled: A Boutique Bridal Brunch
DESCRIPTION:Westchester/Hudson Valley Weddings' annual Unveiled: A Boutique Bridal Brunch is Westchester's ultimate bridal event and the perfect showcase for wedding planners\, florists\, travel experts\, photographers\, videographers\, makeup artist\, entertainers\, bridal fashions and more!
X-ALT-DESC;FMTTYPE=text/html:Westchester/Hudson Valley Weddings&rsquo\; annual Unveiled: A Boutique Bridal Brunch is Westchester&rsquo\;s ultimate bridal event and the perfect showcase for wedding planners\, florists\, travel experts\, photographers\, videographers\, makeup artist\, entertainers\, bridal fashions and more!
LOCATION:Surf Club on the Sound\, New Rochelle\, NY
UID:e.2770.10476623
SEQUENCE:3
DTSTAMP:20260425T222613Z
URL:https://business.dcrcoc.org/events/details/westchester-hudson-valley-weddings-annual-unveiled-a-boutique-bridal-brunch-10476623
END:VEVENT

END:VCALENDAR
